BEGIN:VCALENDAR
VERSION:2.0
PRODID:-//Octubre Centre de Cultura Contemporània - ECPv5.1.6//NONSGML v1.0//EN
CALSCALE:GREGORIAN
METHOD:PUBLISH
X-WR-CALNAME:Octubre Centre de Cultura Contemporània
X-ORIGINAL-URL:https://octubre.cat
X-WR-CALDESC:Events for Octubre Centre de Cultura Contemporània
BEGIN:VTIMEZONE
TZID:Europe/Andorra
BEGIN:DAYLIGHT
TZOFFSETFROM:+0100
TZOFFSETTO:+0200
TZNAME:CEST
DTSTART:20130331T010000
END:DAYLIGHT
BEGIN:STANDARD
TZOFFSETFROM:+0200
TZOFFSETTO:+0100
TZNAME:CET
DTSTART:20131027T010000
END:STANDARD
END:VTIMEZONE
BEGIN:VEVENT
DTSTART;TZID=Europe/Andorra:20130130T190000
DTEND;TZID=Europe/Andorra:20130130T190000
DTSTAMP:20260421T072328
CREATED:20200729T165912Z
LAST-MODIFIED:20200729T184005Z
UID:9457-1359572400-1359572400@octubre.cat
SUMMARY:Premis Nobel 2012: química
DESCRIPTION:Dimecres 30 de gener a les 19.00h: conferència de Rafael Franco  \n  \n  \n\n Guanyadors: Brian Kobilka i Robert Lefkowitz  Conferència “Els receptors intel·ligents de la superfícies de les cèl·lules”\, a càrrec de Rafael Franco (Departament de Bioquímica i Biologia Molecular de la Universitat de Barcelona)
URL:https://octubre.cat/activitat/premis-nobel-2012-quimica/
LOCATION:No definit
CATEGORIES:Espai Ciència
ATTACH;FMTTYPE=image/jpeg:https://octubre.cat/www/wp-content/uploads/2020/07/activitat1707.jpg
END:VEVENT
END:VCALENDAR