BEGIN:VCALENDAR
VERSION:2.0
PRODID:-//Octubre Centre de Cultura Contemporània - ECPv5.1.6//NONSGML v1.0//EN
CALSCALE:GREGORIAN
METHOD:PUBLISH
X-WR-CALNAME:Octubre Centre de Cultura Contemporània
X-ORIGINAL-URL:https://octubre.cat
X-WR-CALDESC:Events for Octubre Centre de Cultura Contemporània
BEGIN:VTIMEZONE
TZID:Europe/Andorra
BEGIN:DAYLIGHT
TZOFFSETFROM:+0100
TZOFFSETTO:+0200
TZNAME:CEST
DTSTART:20130331T010000
END:DAYLIGHT
BEGIN:STANDARD
TZOFFSETFROM:+0200
TZOFFSETTO:+0100
TZNAME:CET
DTSTART:20131027T010000
END:STANDARD
END:VTIMEZONE
BEGIN:VEVENT
DTSTART;TZID=Europe/Andorra:20130204T190000
DTEND;TZID=Europe/Andorra:20130204T190000
DTSTAMP:20260421T072340
CREATED:20200729T165913Z
LAST-MODIFIED:20200729T184005Z
UID:9458-1360004400-1360004400@octubre.cat
SUMMARY:Premis Nobel 2012: economia
DESCRIPTION:Dilluns 4 de febrer a les 19.00h: conferència “La teoria de les assignacions estables i la pràctica del disseny de mercats”\, a càrrec de Jordi Massó  \n  \n  \n\n Guanyadors: Alvin E. Roth i Lloyd Shapley  Conferència “La teoria de les assignacions estables i la pràctica del disseny de mercats”\, a càrrec de Jordi Massó\, degà de la Facultat d’Economia i Empresa de la Universitat de Barcelona
URL:https://octubre.cat/activitat/premis-nobel-2012-economia/
LOCATION:No definit
CATEGORIES:Espai Ciència
ATTACH;FMTTYPE=image/jpeg:https://octubre.cat/www/wp-content/uploads/2020/07/activitat1708.jpg
END:VEVENT
END:VCALENDAR