BEGIN:VCALENDAR
VERSION:2.0
PRODID:-//Octubre Centre de Cultura Contemporània - ECPv5.1.6//NONSGML v1.0//EN
CALSCALE:GREGORIAN
METHOD:PUBLISH
X-WR-CALNAME:Octubre Centre de Cultura Contemporània
X-ORIGINAL-URL:https://octubre.cat
X-WR-CALDESC:Events for Octubre Centre de Cultura Contemporània
BEGIN:VTIMEZONE
TZID:Europe/Andorra
BEGIN:DAYLIGHT
TZOFFSETFROM:+0100
TZOFFSETTO:+0200
TZNAME:CEST
DTSTART:20100328T010000
END:DAYLIGHT
BEGIN:STANDARD
TZOFFSETFROM:+0200
TZOFFSETTO:+0100
TZNAME:CET
DTSTART:20101031T010000
END:STANDARD
END:VTIMEZONE
BEGIN:VEVENT
DTSTART;TZID=Europe/Andorra:20100201T190000
DTEND;TZID=Europe/Andorra:20100201T190000
DTSTAMP:20260421T020426
CREATED:20200729T164639Z
LAST-MODIFIED:20200729T182720Z
UID:8679-1265050800-1265050800@octubre.cat
SUMMARY:Premis Nobel 2009: Literatura
DESCRIPTION:Dilluns 1 de febrer\, a les 19.00h: Conferència sobre el Premi Nobel de Literatura\, a càrrec de Maria Lluïsa Siguan (Universitat de Barcelona).   \n  \n  \n\nEscriure amb els ulls: Herta Müller  Conferència sobre el Premi Nobel de Literatura\,  concedit a Herta Müller.  A càrrec de Maria Lluïsa Siguan\, catedràtica del Departament de Filologia Anglesa i Alemanya de la Universitat de Barcelona.   Organitza: Acció Cultural del País Valencià Càtedra de Divulgació de la Ciència de la Universitat de València Institut d’Estudis Catalans
URL:https://octubre.cat/activitat/premis-nobel-2009-literatura/
LOCATION:No definit
CATEGORIES:Espai Ciència
ATTACH;FMTTYPE=image/jpeg:https://octubre.cat/www/wp-content/uploads/2020/07/activitat1023.jpg
END:VEVENT
END:VCALENDAR