BEGIN:VCALENDAR
VERSION:2.0
PRODID:-//Octubre Centre de Cultura Contemporània - ECPv5.1.6//NONSGML v1.0//EN
CALSCALE:GREGORIAN
METHOD:PUBLISH
X-WR-CALNAME:Octubre Centre de Cultura Contemporània
X-ORIGINAL-URL:https://octubre.cat
X-WR-CALDESC:Events for Octubre Centre de Cultura Contemporània
BEGIN:VTIMEZONE
TZID:Europe/Andorra
BEGIN:DAYLIGHT
TZOFFSETFROM:+0100
TZOFFSETTO:+0200
TZNAME:CEST
DTSTART:20100328T010000
END:DAYLIGHT
BEGIN:STANDARD
TZOFFSETFROM:+0200
TZOFFSETTO:+0100
TZNAME:CET
DTSTART:20101031T010000
END:STANDARD
END:VTIMEZONE
BEGIN:VEVENT
DTSTART;TZID=Europe/Andorra:20100127T190000
DTEND;TZID=Europe/Andorra:20100127T190000
DTSTAMP:20260420T192218
CREATED:20200729T164638Z
LAST-MODIFIED:20200729T182720Z
UID:8678-1264618800-1264618800@octubre.cat
SUMMARY:Premis Nobel 2009: Física
DESCRIPTION:Dimecres 27 de gener\, a les 19.00h: Conferència sobre el Premi Nobel de Física\, a càrrec de Santiago Vallmitjana\, catedràtic del Departament de Física Aplicada i Òptica de la Universitat de Barcelona\, i Atilà Herms\, cap d’Estudis d’Enginyeria Electrònica\, Departament d’Electrònica de la Universitat de Barcelona.   \n  \n  \n\nConferència sobre el Premi Nobel de Física\, concedit a Charles K. Kao\, Willard S. Boyle i George E. Smith.  Part I. «Transmissió de la llum en fibres per a les comunicacions òptiques». A càrrec de Santiago Vallmitjana\, catedràtic del Departament de Física Aplicada i Òptica de la Universitat de Barcelona.   Part II. «Invenció d’un circuit semiconductor per a la captació d’imatges: el sensor CCD». A càrrec de Atilà Herms\, Cap d’Estudis d’Enginyeria Electrònica\, Departament d’Electrònica de la Universitat de Barcelona.   Organitza: Acció Cultural del País Valencià Càtedra de Divulgació de la Ciència de la Universitat de València Institut d’Estudis Catalans
URL:https://octubre.cat/activitat/premis-nobel-2009-fisica/
LOCATION:No definit
CATEGORIES:Espai Ciència
ATTACH;FMTTYPE=image/jpeg:https://octubre.cat/www/wp-content/uploads/2020/07/activitat1022.jpg
END:VEVENT
END:VCALENDAR