BEGIN:VCALENDAR
VERSION:2.0
PRODID:-//Octubre Centre de Cultura Contemporània - ECPv5.1.6//NONSGML v1.0//EN
CALSCALE:GREGORIAN
METHOD:PUBLISH
X-WR-CALNAME:Octubre Centre de Cultura Contemporània
X-ORIGINAL-URL:https://octubre.cat
X-WR-CALDESC:Events for Octubre Centre de Cultura Contemporània
BEGIN:VTIMEZONE
TZID:Europe/Andorra
BEGIN:DAYLIGHT
TZOFFSETFROM:+0100
TZOFFSETTO:+0200
TZNAME:CEST
DTSTART:20090329T010000
END:DAYLIGHT
BEGIN:STANDARD
TZOFFSETFROM:+0200
TZOFFSETTO:+0100
TZNAME:CET
DTSTART:20091025T010000
END:STANDARD
END:VTIMEZONE
BEGIN:VEVENT
DTSTART;TZID=Europe/Andorra:20090120T190000
DTEND;TZID=Europe/Andorra:20090120T190000
DTSTAMP:20260420T152851
CREATED:20200730T035925Z
LAST-MODIFIED:20200730T035925Z
UID:14059-1232478000-1232478000@octubre.cat
SUMMARY:Premis Nobel 2008: conferència sobre el Premi Nobel d'Economia
DESCRIPTION:Dimarts 20 de gener a les 19.00h: Conferència de Josep M. Sayeras (Esade) sobre Paul Krugman\, Premi Nobel d’Economia 2008  \n  \n  \n\n«L’eix mediterrani: organització espontània de l’economia o economia d’aglomeració?»  Conferència sobre el Premi Nobel d’Economia concedit a Paul Krugman\, a càrrec de Josep M. Sayeras\, professor titular del Departament d’Economia d’ESADE.
URL:https://octubre.cat/activitat/premis-nobel-2008-conferencia-sobre-el-premi-nobel-deconomia/
LOCATION:No definit
CATEGORIES:Espai Ciència
ATTACH;FMTTYPE=image/jpeg:https://octubre.cat/www/wp-content/uploads/2020/07/espaiciencia1.jpg
END:VEVENT
END:VCALENDAR