BEGIN:VCALENDAR
VERSION:2.0
PRODID:-//Octubre Centre de Cultura Contemporània - ECPv5.1.6//NONSGML v1.0//EN
CALSCALE:GREGORIAN
METHOD:PUBLISH
X-WR-CALNAME:Octubre Centre de Cultura Contemporània
X-ORIGINAL-URL:https://octubre.cat
X-WR-CALDESC:Events for Octubre Centre de Cultura Contemporània
BEGIN:VTIMEZONE
TZID:Europe/Andorra
BEGIN:DAYLIGHT
TZOFFSETFROM:+0100
TZOFFSETTO:+0200
TZNAME:CEST
DTSTART:20090329T010000
END:DAYLIGHT
BEGIN:STANDARD
TZOFFSETFROM:+0200
TZOFFSETTO:+0100
TZNAME:CET
DTSTART:20091025T010000
END:STANDARD
END:VTIMEZONE
BEGIN:VEVENT
DTSTART;TZID=Europe/Andorra:20090127T190000
DTEND;TZID=Europe/Andorra:20090127T190000
DTSTAMP:20260420T184518
CREATED:20200730T035924Z
LAST-MODIFIED:20200730T035924Z
UID:14057-1233082800-1233082800@octubre.cat
SUMMARY:Premis Nobel 2008: conferència sobre el Premi Nobel de Química
DESCRIPTION:Dimarts 27 de gener a les 19.00h: conferència d’Ernest Giralt (UB) sobre el Premi Nobel de Química 2008  \n  \n  \n\n«La proteïna fluorescent verda»  Conferència sobre el Premi Nobel de Química concedit a Osamu Shimomura\, Martin Chalfie i Roger Y. Tsien\, a càrrec d’Ernest Giralt\, director del Programa de Química i Farmacologia Molecular de l’Institut de Recerca Biomèdica (Parc Científic de Barcelona)\, Universitat de Barcelona.
URL:https://octubre.cat/activitat/premis-nobel-2008-conferencia-sobre-el-premi-nobel-de-quimica/
LOCATION:No definit
CATEGORIES:Espai Ciència
ATTACH;FMTTYPE=image/jpeg:https://octubre.cat/www/wp-content/uploads/2020/07/espaiciencia1.jpg
END:VEVENT
END:VCALENDAR