BEGIN:VCALENDAR
VERSION:2.0
PRODID:-//Octubre Centre de Cultura Contemporània - ECPv5.1.6//NONSGML v1.0//EN
CALSCALE:GREGORIAN
METHOD:PUBLISH
X-WR-CALNAME:Octubre Centre de Cultura Contemporània
X-ORIGINAL-URL:https://octubre.cat
X-WR-CALDESC:Events for Octubre Centre de Cultura Contemporània
BEGIN:VTIMEZONE
TZID:Europe/Andorra
BEGIN:DAYLIGHT
TZOFFSETFROM:+0100
TZOFFSETTO:+0200
TZNAME:CEST
DTSTART:20090329T010000
END:DAYLIGHT
BEGIN:STANDARD
TZOFFSETFROM:+0200
TZOFFSETTO:+0100
TZNAME:CET
DTSTART:20091025T010000
END:STANDARD
END:VTIMEZONE
BEGIN:VEVENT
DTSTART;TZID=Europe/Andorra:20090115T190000
DTEND;TZID=Europe/Andorra:20090115T190000
DTSTAMP:20260420T204116
CREATED:20200730T035922Z
LAST-MODIFIED:20200730T035922Z
UID:14056-1232046000-1232046000@octubre.cat
SUMMARY:Premis Nobel 2008: conferència sobre el Premi Nobel de Literatura
DESCRIPTION:Dijous 15 de gener a les 19.00h: Conferència d’Alícia Piquer (UB) sobre Le Clézio. Aquesta conferència inicia el cicle divulgatiu sobre els Premis Nobel 2008  \n  \n  \n\n«Le Clézio: un rodamón de l’escriptura».  Conferència sobre el Premi Nobel de Literatura concedit a Jean Marie Gustave Le Clézio\, a càrrec d’Alícia Piquer\, professora de literatura francesa de la Facultat de Filologia de la Universitat de Barcelona.
URL:https://octubre.cat/activitat/premis-nobel-2008-conferencia-sobre-el-premi-nobel-de-literatura/
LOCATION:No definit
CATEGORIES:Espai Ciència
ATTACH;FMTTYPE=image/jpeg:https://octubre.cat/www/wp-content/uploads/2020/07/espaiciencia1.jpg
END:VEVENT
END:VCALENDAR