BEGIN:VCALENDAR
VERSION:2.0
PRODID:-//Octubre Centre de Cultura Contemporània - ECPv5.1.6//NONSGML v1.0//EN
CALSCALE:GREGORIAN
METHOD:PUBLISH
X-WR-CALNAME:Octubre Centre de Cultura Contemporània
X-ORIGINAL-URL:https://octubre.cat
X-WR-CALDESC:Events for Octubre Centre de Cultura Contemporània
BEGIN:VTIMEZONE
TZID:Europe/Andorra
BEGIN:DAYLIGHT
TZOFFSETFROM:+0100
TZOFFSETTO:+0200
TZNAME:CEST
DTSTART:20060326T010000
END:DAYLIGHT
BEGIN:STANDARD
TZOFFSETFROM:+0200
TZOFFSETTO:+0100
TZNAME:CET
DTSTART:20061029T010000
END:STANDARD
END:VTIMEZONE
BEGIN:VEVENT
DTSTART;TZID=Europe/Andorra:20061211T000000
DTEND;TZID=Europe/Andorra:20061211T000000
DTSTAMP:20260420T211728
CREATED:20200729T171948Z
LAST-MODIFIED:20251206T223607Z
UID:10742-1165795200-1165795200@octubre.cat
SUMMARY:Premis Nobel 2006: Química
DESCRIPTION:“Les intimitats de la transcripció eucariòtica”. Conferència sobre el premi Nobel de Química concedit a Roger D. Kornberg. A càrrec de Jordi Bernués Martínez\, de l’Institut de Biologia Molecular de Barcelona\, CSIC\, Parc Científic de Barcelona
URL:https://octubre.cat/activitat/premis-nobel-2006-quimica/
LOCATION:No definit
CATEGORIES:Espai Ciència
ATTACH;FMTTYPE=image/jpeg:https://octubre.cat/www/wp-content/uploads/2020/07/espaiciencia1.jpg
END:VEVENT
END:VCALENDAR