BEGIN:VCALENDAR
VERSION:2.0
PRODID:-//Octubre Centre de Cultura Contemporània - ECPv5.1.6//NONSGML v1.0//EN
CALSCALE:GREGORIAN
METHOD:PUBLISH
X-WR-CALNAME:Octubre Centre de Cultura Contemporània
X-ORIGINAL-URL:https://octubre.cat
X-WR-CALDESC:Events for Octubre Centre de Cultura Contemporània
BEGIN:VTIMEZONE
TZID:Europe/Andorra
BEGIN:DAYLIGHT
TZOFFSETFROM:+0100
TZOFFSETTO:+0200
TZNAME:CEST
DTSTART:20070325T010000
END:DAYLIGHT
BEGIN:STANDARD
TZOFFSETFROM:+0200
TZOFFSETTO:+0100
TZNAME:CET
DTSTART:20071028T010000
END:STANDARD
END:VTIMEZONE
BEGIN:VEVENT
DTSTART;TZID=Europe/Andorra:20070117T000000
DTEND;TZID=Europe/Andorra:20070117T000000
DTSTAMP:20260420T210236
CREATED:20200729T171951Z
LAST-MODIFIED:20251206T223814Z
UID:10745-1168992000-1168992000@octubre.cat
SUMMARY:Premis Nobel 2006: Fisiologia o Medicina
DESCRIPTION:“Silencing of the genome by small non-coding RNA”. Conferència sobre el Premi Nobel de Medicina o Fisiologia concedit a Andrew Z. Fire i Craig C. Mello. A càrrec de Ramin Shiekhattar\, professor d’investigació d’ICREA\, Centre de Regulació Genòmica.
URL:https://octubre.cat/activitat/premis-nobel-2006-fisiologia-o-medicina/
LOCATION:No definit
CATEGORIES:Espai Ciència
ATTACH;FMTTYPE=image/jpeg:https://octubre.cat/www/wp-content/uploads/2020/07/espaiciencia1.jpg
END:VEVENT
END:VCALENDAR