BEGIN:VCALENDAR
VERSION:2.0
PRODID:-//Octubre Centre de Cultura Contemporània - ECPv5.1.6//NONSGML v1.0//EN
CALSCALE:GREGORIAN
METHOD:PUBLISH
X-WR-CALNAME:Octubre Centre de Cultura Contemporània
X-ORIGINAL-URL:https://octubre.cat
X-WR-CALDESC:Events for Octubre Centre de Cultura Contemporània
BEGIN:VTIMEZONE
TZID:Europe/Andorra
BEGIN:DAYLIGHT
TZOFFSETFROM:+0100
TZOFFSETTO:+0200
TZNAME:CEST
DTSTART:20100328T010000
END:DAYLIGHT
BEGIN:STANDARD
TZOFFSETFROM:+0200
TZOFFSETTO:+0100
TZNAME:CET
DTSTART:20101031T010000
END:STANDARD
END:VTIMEZONE
BEGIN:VEVENT
DTSTART;TZID=Europe/Andorra:20101212T190000
DTEND;TZID=Europe/Andorra:20101212T190000
DTSTAMP:20260420T211657
CREATED:20200729T165304Z
LAST-MODIFIED:20200730T042647Z
UID:9085-1292180400-1292180400@octubre.cat
SUMMARY:Preminger + Kamaguchi + Garcia
DESCRIPTION:Diumenge 12 de desembre\, a les 19.00h: Preminger + Kamaguchi + Garcia (Brooklyn\, Nova York)  \n  \n  \n\nProcedent de l’escena jazz de Brooklyn\, amb actuacions de mirada futurista i composicions originals al costat d’infinites improvisacions\, aquest trio simbolitza el format del jazz que està per venir.  Noah Preminger\, saxofonista\, ha rebut reconeixement immediat de l’escena tan bon punt hi va posar els peus. Del seu disc de debut\, Dry Bridge Road\, s’ha dit que és més que un punt de partida prometedor\, una mostra d’integritat.  El sol·licitat baixista Masa Kamaguchi aporta un so molt personal i una perspectiva plena de frescor al baix acústic. Entre les seues credencials\, es compten les col·laboracions en els recents treballs de Frank Kimbrough i Paul Motian\, Ron Horton\, Jimmy Weinstein\, John O’Gallagher i Roberta Piket.  Un dels promotors de l’escena jazz actual de Brooklyn\, el bateria Rob Garcia\, està acaparant l’atenció de públic i crítica per la seua manera de compondre\, així com per la seua excel·lent manera d’interpretar. El seu últim disc\, Perennial\, en el qual apareix Noah Preminger fou triat un dels deu millors àlbums jazz de 2009.
URL:https://octubre.cat/activitat/preminger-kamaguchi-garcia/
LOCATION:No definit
CATEGORIES:Diumenges de Jazz!
ATTACH;FMTTYPE=image/jpeg:https://octubre.cat/www/wp-content/uploads/2020/07/activitat1332.jpg
END:VEVENT
END:VCALENDAR