BEGIN:VCALENDAR
VERSION:2.0
PRODID:-//Octubre Centre de Cultura Contemporània - ECPv5.1.6//NONSGML v1.0//EN
CALSCALE:GREGORIAN
METHOD:PUBLISH
X-WR-CALNAME:Octubre Centre de Cultura Contemporània
X-ORIGINAL-URL:https://octubre.cat
X-WR-CALDESC:Events for Octubre Centre de Cultura Contemporània
BEGIN:VTIMEZONE
TZID:Europe/Andorra
BEGIN:DAYLIGHT
TZOFFSETFROM:+0100
TZOFFSETTO:+0200
TZNAME:CEST
DTSTART:20060326T010000
END:DAYLIGHT
BEGIN:STANDARD
TZOFFSETFROM:+0200
TZOFFSETTO:+0100
TZNAME:CET
DTSTART:20061029T010000
END:STANDARD
END:VTIMEZONE
BEGIN:VEVENT
DTSTART;TZID=Europe/Andorra:20061204T200000
DTEND;TZID=Europe/Andorra:20061204T200000
DTSTAMP:20260420T225401
CREATED:20251208T203043Z
LAST-MODIFIED:20251208T203043Z
UID:24222-1165262400-1165262400@octubre.cat
SUMMARY:Premi Ramon Barnils: “Enrique Palau\, una història silenciada de la ràdio valenciana” d’Alfons Llorenç
DESCRIPTION:Premi de Periodisme Ramon Barnils 2006 atorgat pel setmanari El Temps \nAmb Alfons Llorenç\, periodista i autor de l’article; Ángel Tamayo\, director general de Cadena SER de la Comunitat Valenciana; Eliseu Climent\, president d’Acció Cultural del País Valencià; Joan Ignasi Pla\, president de la Fundació Societat i Progrés i Amparo Bou\, presidenta de la Unió de Periodistes Valencians. \nEnrique Palau va ser director de Radio València entre desembre de 1937 i el març de 1939. Demòcrata i republicà\, la seua gestió al capdavant de l’emissora va estar caracteritzada per la transparència econòmica i pel compromís amb la democràcia. \nAmb la caiguda de València a mans de l’exèrcit franquista\, va ser empresonat i condemnat a mort sota l’acusació d’haver propagat el marxisme i d’haver donat suport a la rebel·lió militar. Va romandre empresonat a la mateixa presó que el rector Peset fins 1943. El 18 de març d’aquell mateix any va ser traslladat a sa casa per a després desterrar-lo a Tarragona. En unes poques hores va morir víctima de la tuberculosi. Enguany se celebren 75 anys de Radio València\, i aquest és un bon moment per recuperar la memòria d’Enrique Palau aprofitant l’estudi monogràfic que Alfons Llorenç n’ha fet. \nConsulteu l’article guanyador d’Alfons Llorenç publicat a la revista El Temps.
URL:https://octubre.cat/activitat/premi-ramon-barnils-enrique-palau-una-historia-silenciada-de-la-radio-valenciana-dalfons-llorenc/
LOCATION:No definit
CATEGORIES:Conferències i congressos
ATTACH;FMTTYPE=image/jpeg:https://octubre.cat/www/wp-content/uploads/2025/12/enrique-palau.jpg
END:VEVENT
END:VCALENDAR