BEGIN:VCALENDAR
VERSION:2.0
PRODID:-//Octubre Centre de Cultura Contemporània - ECPv5.1.6//NONSGML v1.0//EN
CALSCALE:GREGORIAN
METHOD:PUBLISH
X-WR-CALNAME:Octubre Centre de Cultura Contemporània
X-ORIGINAL-URL:https://octubre.cat
X-WR-CALDESC:Events for Octubre Centre de Cultura Contemporània
BEGIN:VTIMEZONE
TZID:Europe/Andorra
BEGIN:DAYLIGHT
TZOFFSETFROM:+0100
TZOFFSETTO:+0200
TZNAME:CEST
DTSTART:20150329T010000
END:DAYLIGHT
BEGIN:STANDARD
TZOFFSETFROM:+0200
TZOFFSETTO:+0100
TZNAME:CET
DTSTART:20151025T010000
END:STANDARD
END:VTIMEZONE
BEGIN:VEVENT
DTSTART;TZID=Europe/Andorra:20150611T000000
DTEND;TZID=Europe/Andorra:20150724T000000
DTSTAMP:20260421T212356
CREATED:20200729T171151Z
LAST-MODIFIED:20200903T154311Z
UID:10233-1433980800-1437696000@octubre.cat
SUMMARY:'Pornosigil'
DESCRIPTION:GRIMORI SEXUAL DEL GRUP FIDEX \nInauguració: dijous 11 de juny a les 20.00h. \nL’obscurantisme medieval i la urgència de la persecució de la bruixeria constituïen el territori on van florir els anomenats grimoris: grans compendis d’encanteris\, llistes de correspondències màgiques i invocacions a diversos esperits. Igual que els grans tractats psiquiàtrics posteriors\, els grimoris de l’Edat Mitjana aglutinaven\, enumeraven i classificaven corts d’àngels i de dimonis a parts iguals per tal de fer intel·ligible una realitat estranya\, herètica per a l’ordre eclesiàstic. En una analogia entre art contemporani\, màgia medieval i pràctiques sexuals\, FIDEX presenta ara PORNOSIGIL\, una proposta de cultura perversa i inquieta\, on allò icònic es converteix en una clau\, un secret d’accés a altres realitats de plaer i representació. Els antics inframóns ara es troben entre les cames. El grup d’investigació FIDEX (Figures de l’Excés i Polítiques del Cos) de la Universitat Miguel Hernández està format pels artistes\, professors i investigadors Daniel Tejero\, José Francisco Gómez de Albacete\, Imma Mengual\, Javi Moreno\, O.R.G.I.A.\, Raquel Puerta\, Lourdes Santamaría\, Deif Vila i María José Zanón. Centrat en l’estudi del trinomi sexe-gènere-sexualitat i la seua correlació artístic-visual\, el Grup FIDEX participa en aquesta ocasió en L’Exhibició\, Festival de Cultura Sexplícita.
URL:https://octubre.cat/activitat/pornosigil/
LOCATION:Sala d’exposicions
CATEGORIES:Exposicions
ATTACH;FMTTYPE=image/jpeg:https://octubre.cat/www/wp-content/uploads/2020/07/activitat2354.jpg
END:VEVENT
END:VCALENDAR