BEGIN:VCALENDAR
VERSION:2.0
PRODID:-//Octubre Centre de Cultura Contemporània - ECPv5.1.6//NONSGML v1.0//EN
CALSCALE:GREGORIAN
METHOD:PUBLISH
X-WR-CALNAME:Octubre Centre de Cultura Contemporània
X-ORIGINAL-URL:https://octubre.cat
X-WR-CALDESC:Events for Octubre Centre de Cultura Contemporània
BEGIN:VTIMEZONE
TZID:Europe/Andorra
BEGIN:DAYLIGHT
TZOFFSETFROM:+0100
TZOFFSETTO:+0200
TZNAME:CEST
DTSTART:20100328T010000
END:DAYLIGHT
BEGIN:STANDARD
TZOFFSETFROM:+0200
TZOFFSETTO:+0100
TZNAME:CET
DTSTART:20101031T010000
END:STANDARD
END:VTIMEZONE
BEGIN:VEVENT
DTSTART;TZID=Europe/Andorra:20101215T190000
DTEND;TZID=Europe/Andorra:20101215T190000
DTSTAMP:20260420T171807
CREATED:20200729T165254Z
LAST-MODIFIED:20200730T042643Z
UID:9075-1292439600-1292439600@octubre.cat
SUMMARY:Poesia sobre les realitats
DESCRIPTION:Dimecres 15 de desembre\, a les 19.00h: “Poesia sobre les realitats”\, taula rodona. Amb la col·laboració de la Institució de les Lletres Catalanes.   \n  \n  \n\nTaula rodona amb la intervenció de Marc Granell\, Lluís Alpera\, Maria Josep Escrivà\, Jaume Pomar i David Castillo.  Presenta l’acte: Francesc Calafat.   Amb la col·laboració de la Institució de les Lletres Catalanes.
URL:https://octubre.cat/activitat/poesia-sobre-les-realitats/
LOCATION:No definit
CATEGORIES:Espai Illes Balears
ATTACH;FMTTYPE=image/jpeg:https://octubre.cat/www/wp-content/uploads/2020/07/activitat1327.jpg
END:VEVENT
END:VCALENDAR