BEGIN:VCALENDAR
VERSION:2.0
PRODID:-//Octubre Centre de Cultura Contemporània - ECPv5.1.6//NONSGML v1.0//EN
CALSCALE:GREGORIAN
METHOD:PUBLISH
X-WR-CALNAME:Octubre Centre de Cultura Contemporània
X-ORIGINAL-URL:https://octubre.cat
X-WR-CALDESC:Events for Octubre Centre de Cultura Contemporània
BEGIN:VTIMEZONE
TZID:Europe/Andorra
BEGIN:DAYLIGHT
TZOFFSETFROM:+0100
TZOFFSETTO:+0200
TZNAME:CEST
DTSTART:20140330T010000
END:DAYLIGHT
BEGIN:STANDARD
TZOFFSETFROM:+0200
TZOFFSETTO:+0100
TZNAME:CET
DTSTART:20141026T010000
END:STANDARD
END:VTIMEZONE
BEGIN:VEVENT
DTSTART;TZID=Europe/Andorra:20140124T190000
DTEND;TZID=Europe/Andorra:20140124T190000
DTSTAMP:20260421T224711
CREATED:20200729T170323Z
LAST-MODIFIED:20200729T184338Z
UID:9692-1390590000-1390590000@octubre.cat
SUMMARY:Poesia multicultural
DESCRIPTION:Divendres 24 de gener a les 19.00h. Recital organitzat per l’AC “El Gat Negre” de Burjassot  \n  \n  \n\n Racons Poètics: recital de poesia multicultural  El propòsit que busquem amb aquest acte és reivindicar la poesia com un llenguatge universal que trascendeix la llengua en la que ha sigut escrita\, a través de la musicalitat del seu llenguatge\, i per això comptem amb poetes que recitaran en idiomes tan coneguts com l’italià\, anglés\, alemany\, català (per descomptat…) Però també àrab\, punjab i esperant.  Humilment pensem que serà un espectacle que paga la pena veure. També us volem dir que a la fi de l’acte s’obrirà el micrófon\, per tant podeu portar o poemes vostres que vulgau comprtir\, o si en teniu algún preferit d’algún autor\, també el podeu recitar. Ens veiem aleshores el dia 24? Segur que si!  Organitzat per l’Associació Cultural “El Gat Negre” de Burjassot amb la col·laboració del Servei d’Estudiants de la Universitat de València
URL:https://octubre.cat/activitat/poesia-multicultural/
LOCATION:Aula 2
CATEGORIES:Literatura
ATTACH;FMTTYPE=image/jpeg:https://octubre.cat/www/wp-content/uploads/2020/07/activitat1984.jpg
END:VEVENT
END:VCALENDAR