BEGIN:VCALENDAR
VERSION:2.0
PRODID:-//Octubre Centre de Cultura Contemporània - ECPv5.1.6//NONSGML v1.0//EN
CALSCALE:GREGORIAN
METHOD:PUBLISH
X-WR-CALNAME:Octubre Centre de Cultura Contemporània
X-ORIGINAL-URL:https://octubre.cat
X-WR-CALDESC:Events for Octubre Centre de Cultura Contemporània
BEGIN:VTIMEZONE
TZID:Europe/Andorra
BEGIN:DAYLIGHT
TZOFFSETFROM:+0100
TZOFFSETTO:+0200
TZNAME:CEST
DTSTART:20150329T010000
END:DAYLIGHT
BEGIN:STANDARD
TZOFFSETFROM:+0200
TZOFFSETTO:+0100
TZNAME:CET
DTSTART:20151025T010000
END:STANDARD
END:VTIMEZONE
BEGIN:VEVENT
DTSTART;TZID=Europe/Andorra:20150603T190000
DTEND;TZID=Europe/Andorra:20150603T190000
DTSTAMP:20260421T212717
CREATED:20200729T170924Z
LAST-MODIFIED:20200730T041400Z
UID:10074-1433358000-1433358000@octubre.cat
SUMMARY:Podem creure en tot el que veiem?
DESCRIPTION:Dimecres 6 de maig a les 19.00h. A càrrec d’Álvaro Pons (UV). Conferència inclosa en el cicle “Tots plens de nit\, buscant la llum”\, celebrat per l’Espai Ciència amb motiu de l’Any Internacional de la llum i de les tecnologies basades en la llum  \n  \n  \n\n  Les il·lusions  òptiques com a forma d’estudiar la visió  amb Álvaro Pons (Universitat de València)  El sistema visual ens proporciona una representació del món que ens  envolta. Però… és fidedigna la imatge del nostre entorn que crea el cervell? A  través de les il·lusions visuals\, les neurociències estan descobrint com\, durant  milers d’anys\, el nostre cervell ha après a extreure la màxima informació de  les imatges que arriben a la retina. Encara que això supose que\, de vegades\, allò veiem puga ser alguna cosa diferent a la realitat.  Álvaro Pons és professor titular del Departament d’Òptica de la Universitat de València i crític i divulgador dels còmics.
URL:https://octubre.cat/activitat/podem-creure-en-tot-el-que-veiem/
LOCATION:Sala d’actes
CATEGORIES:Espai Ciència
ATTACH;FMTTYPE=image/gif:https://octubre.cat/www/wp-content/uploads/2020/07/activitat2271.gif
END:VEVENT
END:VCALENDAR