BEGIN:VCALENDAR
VERSION:2.0
PRODID:-//Octubre Centre de Cultura Contemporània - ECPv5.1.6//NONSGML v1.0//EN
CALSCALE:GREGORIAN
METHOD:PUBLISH
X-WR-CALNAME:Octubre Centre de Cultura Contemporània
X-ORIGINAL-URL:https://octubre.cat
X-WR-CALDESC:Events for Octubre Centre de Cultura Contemporània
BEGIN:VTIMEZONE
TZID:Europe/Andorra
BEGIN:DAYLIGHT
TZOFFSETFROM:+0100
TZOFFSETTO:+0200
TZNAME:CEST
DTSTART:20090329T010000
END:DAYLIGHT
BEGIN:STANDARD
TZOFFSETFROM:+0200
TZOFFSETTO:+0100
TZNAME:CET
DTSTART:20091025T010000
END:STANDARD
END:VTIMEZONE
BEGIN:VEVENT
DTSTART;TZID=Europe/Andorra:20091008T193000
DTEND;TZID=Europe/Andorra:20091008T193000
DTSTAMP:20260420T153812
CREATED:20200729T182631Z
LAST-MODIFIED:20200729T182631Z
UID:12938-1255030200-1255030200@octubre.cat
SUMMARY:Plurilingüisme i llibertat d'expressió
DESCRIPTION:Dijous 8 d’octubre\, a les 19.30h: “Plurilingüisme i llibertat d’expressió”\, amb Marga Sanz\, Adolfo Barrena\, David Abril i Mercè Civit. Modera: Víctor Mansanet.   \n  \n  \n\nACTE PÚBLIC D’EUPV  Plurilingüisme i llibertat d’expressió  Hi intervindran:  Marga Sanz\, coordinadora General d’EUPV. Adolfo Barrena\, coordinador d’IU-Aragó. David Abril\, coordinador general d’Esquerra Unida-Illes Balears. Mercè Civit\, diputada d’EUiA del Parlament de Catalunya.  Modera: Víctor Mansanet\, secretari de cultura d’EUPV.
URL:https://octubre.cat/activitat/plurilinguisme-i-llibertat-dexpressio/
LOCATION:No definit
CATEGORIES:Literatura
ATTACH;FMTTYPE=image/jpeg:https://octubre.cat/www/wp-content/uploads/2020/07/activitat972.jpg
END:VEVENT
END:VCALENDAR