BEGIN:VCALENDAR
VERSION:2.0
PRODID:-//Octubre Centre de Cultura Contemporània - ECPv5.1.6//NONSGML v1.0//EN
CALSCALE:GREGORIAN
METHOD:PUBLISH
X-WR-CALNAME:Octubre Centre de Cultura Contemporània
X-ORIGINAL-URL:https://octubre.cat
X-WR-CALDESC:Events for Octubre Centre de Cultura Contemporània
BEGIN:VTIMEZONE
TZID:Europe/Andorra
BEGIN:DAYLIGHT
TZOFFSETFROM:+0100
TZOFFSETTO:+0200
TZNAME:CEST
DTSTART:20170326T010000
END:DAYLIGHT
BEGIN:STANDARD
TZOFFSETFROM:+0200
TZOFFSETTO:+0100
TZNAME:CET
DTSTART:20171029T010000
END:STANDARD
END:VTIMEZONE
BEGIN:VEVENT
DTSTART;TZID=Europe/Andorra:20170405T190000
DTEND;TZID=Europe/Andorra:20170405T190000
DTSTAMP:20260420T194217
CREATED:20200729T172522Z
LAST-MODIFIED:20200729T185810Z
UID:11098-1491418800-1491418800@octubre.cat
SUMMARY:Plaquettes de Vicent Botella i Lamís Saïdy
DESCRIPTION:Dimecres 5 d’abril a les 19.00h. Amb Maria Josep Escrivà (editora)\, Begonya Pozo (traductora)\, Marc Granell i Vicent Botella.  \n  \n  \n\n Presentació de dues plaquettes de la col·lecció Razer (Ed. 96): La llàstima\, de Vicent Botella i Com una ciutat assetjada\, de Lamís Saïdy.  Amb Maria Josep Escrivà (editora)\, Begonya Pozo (traductora)\, Marc Granell i Vicent Botella.
URL:https://octubre.cat/activitat/plaquettes-de-vicent-botella-i-lamis-saidy/
LOCATION:Llibreria Fan Set
CATEGORIES:Literatura
ATTACH;FMTTYPE=image/jpeg:https://octubre.cat/www/wp-content/uploads/2020/07/activitat2809.jpg
END:VEVENT
END:VCALENDAR