BEGIN:VCALENDAR
VERSION:2.0
PRODID:-//Octubre Centre de Cultura Contemporània - ECPv5.1.6//NONSGML v1.0//EN
CALSCALE:GREGORIAN
METHOD:PUBLISH
X-WR-CALNAME:Octubre Centre de Cultura Contemporània
X-ORIGINAL-URL:https://octubre.cat
X-WR-CALDESC:Events for Octubre Centre de Cultura Contemporània
BEGIN:VTIMEZONE
TZID:Europe/Andorra
BEGIN:DAYLIGHT
TZOFFSETFROM:+0100
TZOFFSETTO:+0200
TZNAME:CEST
DTSTART:20100328T010000
END:DAYLIGHT
BEGIN:STANDARD
TZOFFSETFROM:+0200
TZOFFSETTO:+0100
TZNAME:CET
DTSTART:20101031T010000
END:STANDARD
END:VTIMEZONE
BEGIN:VEVENT
DTSTART;TZID=Europe/Andorra:20100930T000000
DTEND;TZID=Europe/Andorra:20101002T000000
DTSTAMP:20260420T165707
CREATED:20200729T164954Z
LAST-MODIFIED:20200829T162535Z
UID:8873-1285804800-1285977600@octubre.cat
SUMMARY:PIXEL ATTACK 010
DESCRIPTION:PIXEL ATTACK 010. Trobada de creació digital i nous mitjans \nPixel Attack és un esdeveniment que presenta les últimes tendències del disseny mitjançant la creació digital. Aquesta trobada sorgeix amb la finalitat de difondre i donar suport als joves creadors de l’escena local\, alhora que els posa en relació amb artistes i dissenyadors nacionals i internacionals. Amb aquesta quarta edició\, Pixel Attack es converteix en un referent únic en la ciutat de València\, que uneix conferències\, presentacions de projectes\, taules rodones\, motion graphics\, workshops i live acts. \nEn edicions anteriors van participat: United Visual Artists (London)\, Dvein (Barcelona)\, Mr. Doob (Barcelona / London)\, BuiltByRimes (València)\, STASH (Canada)\, Keytoon Animation Studio (València)\, Kikuru (València)\, Inklude (València)\, Saponia (València)\, Nectar Estudio (València)\, Pixelinglife (València)\, Medios y Proyectos (València)\, DJ Sr. Imbécil (València)\, VJ ERRORvideo (València). \nPIXEL ATTACK és una iniciativa de Nectar Estudio. Nectar és un estudi multidisciplinar de comunicació i nous mitjans nascut el 2004. Amb caràcter fresc i innovador\, aplicat a qualsevol tipus de projecte gràfic\, web\, multimèdia\, publicitari\, etc. Ha sigut reconegut als premis ADCV amb un Or i un Plata\, els Premis Laus 08 i també seleccionat per als llibres Select G\, Select H\, Feedback\, Bianuario 3 ADCV. Els seus treballs s’han mostrat a revistes com .NET o Interactiva. \nWorkshops PIXEL ATTACK ‘010 incrementarà la seua oferta formativa amb nous tallers professionals. Aquests tallers se celebraran durant els dies de l’esdeveniment a l’Escola d’Art i Superior de Disseny de València i seran de tres tipus: Fast Motion Design\, Migració AS2>AS3 i Fast Flyer Design.  Participants Cuatic (BCN)\, Waskman (BIO/MAD)\, Kikuru (VLC)\, Multitouch (BCN)\, Héctor Ayuso /OFFF (BCN)\, David Duprez/ Cocoe (MAD)\, Aer Studio (BCN)\, Inklude (VLC)\, Flan (VLC/BCN) i molts més. \nPrograma \nDivendres 1 d’octubre\n–10.00h. Tallers a l’EASD.\n–16.00h. Presentació Pixel Attack 010.\n–16.30h. Kikuru.\n–17.30h. AER.\n–19.00h. Cocoe.\n–20.00h. Taula rodona: “Èxode creatiu”. \nDissabte 2 d’octubre\n–10.00h. Tallers a l’EASD.\n–16.00h. Cuatic.\n–17.00h. Álvaro Rey (Waskman).\n–19.00h. Multitouch.\n–20.00h. Actuació musical a càrrec de Negro + Truna i cloenda del festival. \nFesta de cloenda de Pixel Attack a Excuse me? (C/ Tomasos\, 14. València) amb Alababarada Dj’s. Dissabte 2 d’octubre\, a partir de la 1.00h (gratis fins les 2.00h).
URL:https://octubre.cat/activitat/pixel-attack-010/
LOCATION:No definit
CATEGORIES:Conferències i congressos
ATTACH;FMTTYPE=image/jpeg:https://octubre.cat/www/wp-content/uploads/2020/07/activitat1223.jpg
END:VEVENT
END:VCALENDAR