BEGIN:VCALENDAR
VERSION:2.0
PRODID:-//Octubre Centre de Cultura Contemporània - ECPv5.1.6//NONSGML v1.0//EN
CALSCALE:GREGORIAN
METHOD:PUBLISH
X-WR-CALNAME:Octubre Centre de Cultura Contemporània
X-ORIGINAL-URL:https://octubre.cat
X-WR-CALDESC:Events for Octubre Centre de Cultura Contemporània
BEGIN:VTIMEZONE
TZID:Europe/Andorra
BEGIN:DAYLIGHT
TZOFFSETFROM:+0100
TZOFFSETTO:+0200
TZNAME:CEST
DTSTART:20140330T010000
END:DAYLIGHT
BEGIN:STANDARD
TZOFFSETFROM:+0200
TZOFFSETTO:+0100
TZNAME:CET
DTSTART:20141026T010000
END:STANDARD
END:VTIMEZONE
BEGIN:VEVENT
DTSTART;TZID=Europe/Andorra:20140709T193000
DTEND;TZID=Europe/Andorra:20140711T000000
DTSTAMP:20260421T090314
CREATED:20200729T170533Z
LAST-MODIFIED:20200730T041154Z
UID:9823-1404934200-1405036800@octubre.cat
SUMMARY:PinPanPun 2014
DESCRIPTION:Del dimecres 9 al divendres 11 de juliol\, tots els dies a les 19.30h. El Festival PinPanPun (trobades de música i tecnologia inusuals) torna a l’Octubre CCC  \n  \n  \n\n Organitzat per sinberifora ac amb la col·laboració de l’Octubre CCC  Dimecres 9 de juliol a les 19.300h –Crocanti (lofi\, noise\, diy) –Dario Fariello + Josep Lluís Galiana (impro duo sax) –Truna (cello and electrónica)  Dijous 10 de juliol a les 19.30h –Bartolomé Ferrando (intro fonetica) –Dario Fariello (solo acoustic sax and viola) –Avelino Saavedra (solo drums and electronics)  Divendres 11 de juliol a les 19.30h –Santiago López (sound objects performance) –Antonio Jesús Sánchez (live electronics) –Marredo & Montag (live electronics)  Informació dels artistes  Entrada un dia: 5€ Abonament tres dies: 12€  València és terra de so i contrast\, terra de música\, de músics de banda\, de trons i de masclets\, terra de cants d’estil\, d’albaes\, de fórmules uns\, terra de rutes del bacalao\, de dolçaines\, de campanes i ones de la mar\, terra de foc\, d’accents apitxats\, terra de xes! de nanos! i de tios!  Malauradament\, des de les institucions no es valora el ventall de matisos\, on tot allò diferent\, allò minoritari\, cal aixafar-ho\, menysprear-ho ―allò subtil és xafat per allò abusiu\, allò petit per allò faraònic― tot dificultant la feina de la gent que pretén organitzar i gestionar esdeveniments i espais des de la modèstia.  En l’actual situació de crisi econòmica\, i amb la impossibilitat de rebre subvencions de part de les grans institucions\, és moment de treballar des de la base\, no amb grans macrofestivals\, sinó creant una continuïtat\, un patró obert \,mutable i adaptable que depenga de les necessitats i inquietuds de cada moment.  En aquest context\, més enllà del tro i el bac constant\, hi ha diverses generacions d’artistes que gaudeixen de la recerca constant\, de l’experimentació\, de la investigació i la divulgació de noves propostes i que lluiten per un futur més ric\, ple de matisos\, fora de clixés i més lliure. Persones creatives que lluiten per no emigrar\, i d´altres que ja ho han hagut de fer\, gent que comparteix el fruit del seu estudi de forma no lucrativa mantenint-se així fora de les convencions del mercat i dels circuits i discursos massius establerts.  Cal generar un rall d’activitat per tal que tota aquesta creativitat i energia no se’n vaja; cal facilitar espais i infraestructures on poder divulgar les propostes\, on tant creadors com assistents estiguen en harmonia\, espais horitzontals\, sense mitificacions. Espais comuns que permeten la subsistència de la cultura\, i de la gent que la genera.  Després de dues edicions farcides de meravelles sonores\, aquesta tercera edició es presenta amb un format mes comprimit: tres dies continuats amb múltiples propostes.  L´Octubre Centre de Cultura Contemporània acollirà els dies 9\,10i 11 de juliol aquest ampli ventall de propostes arriscades\, fora dels cànons preestablerts. Músiques arriscades que ens faran gaudir de l´oasi cultural generat front al desert cultural en el que es sol transformar la ciutat quan arriba la calor
URL:https://octubre.cat/activitat/pinpanpun-2014/
CATEGORIES:Música
ATTACH;FMTTYPE=image/jpeg:https://octubre.cat/www/wp-content/uploads/2020/07/activitat2104.jpg
END:VEVENT
END:VCALENDAR