BEGIN:VCALENDAR
VERSION:2.0
PRODID:-//Octubre Centre de Cultura Contemporània - ECPv5.1.6//NONSGML v1.0//EN
CALSCALE:GREGORIAN
METHOD:PUBLISH
X-WR-CALNAME:Octubre Centre de Cultura Contemporània
X-ORIGINAL-URL:https://octubre.cat
X-WR-CALDESC:Events for Octubre Centre de Cultura Contemporània
BEGIN:VTIMEZONE
TZID:Europe/Andorra
BEGIN:DAYLIGHT
TZOFFSETFROM:+0100
TZOFFSETTO:+0200
TZNAME:CEST
DTSTART:20090329T010000
END:DAYLIGHT
BEGIN:STANDARD
TZOFFSETFROM:+0200
TZOFFSETTO:+0100
TZNAME:CET
DTSTART:20091025T010000
END:STANDARD
END:VTIMEZONE
BEGIN:VEVENT
DTSTART;TZID=Europe/Andorra:20090527T213000
DTEND;TZID=Europe/Andorra:20090527T213000
DTSTAMP:20260420T192136
CREATED:20200729T182443Z
LAST-MODIFIED:20200729T182443Z
UID:12837-1243459800-1243459800@octubre.cat
SUMMARY:Pierre Berthet (Bèlgica)
DESCRIPTION:Dimecres 27 de maig\, a les 21.30h: Pierre Berthet (Bèlgica).   \n  \n  \n\nL’artista sonor\, músic\, improvisador i luthier Pierre Berthet porta molt de temps desenvolupant una sèrie de propostes que presenta a través de concerts i\, sobretot\, d’instal·lacions sonores amb una estètica simple\, però efectiva\, molt allunyada dels estàndards tecnològics actuals\, que entronca amb les aproximacions d’artistes del moviment Fluxus\, del Land Art\, etc.   En aquesta primera visita a València ens proposa un concert / instal·lació inusual\, que ell anomena EXPIRATOR. Un tub flexible (la cambra d’aire d’una bicicleta) es fixa al final del tub d’una aspiradora invertida. Quan aquesta s’engega\, el tub flexible entra en moviment regular sobre el sól o superfície on es troba. Un assortiment de tubs rígids de diverses grandàries es disposa al llarg del camí del tub flexible de manera que l’aire passa pel seu interior. Per a l’ocasió\, Berthet farà servir tres aspiradores i el so no serà amplificat.   Tota una oda al futurisme en el seu centè aniversari!
URL:https://octubre.cat/activitat/pierre-berthet-belgica/
LOCATION:No definit
CATEGORIES:Vibra
ATTACH;FMTTYPE=image/jpeg:https://octubre.cat/www/wp-content/uploads/2020/07/activitat866.jpg
END:VEVENT
END:VCALENDAR