BEGIN:VCALENDAR
VERSION:2.0
PRODID:-//Octubre Centre de Cultura Contemporània - ECPv5.1.6//NONSGML v1.0//EN
CALSCALE:GREGORIAN
METHOD:PUBLISH
X-WR-CALNAME:Octubre Centre de Cultura Contemporània
X-ORIGINAL-URL:https://octubre.cat
X-WR-CALDESC:Events for Octubre Centre de Cultura Contemporània
BEGIN:VTIMEZONE
TZID:Europe/Andorra
BEGIN:DAYLIGHT
TZOFFSETFROM:+0100
TZOFFSETTO:+0200
TZNAME:CEST
DTSTART:20140330T010000
END:DAYLIGHT
BEGIN:STANDARD
TZOFFSETFROM:+0200
TZOFFSETTO:+0100
TZNAME:CET
DTSTART:20141026T010000
END:STANDARD
END:VTIMEZONE
BEGIN:VEVENT
DTSTART;TZID=Europe/Andorra:20141106T200000
DTEND;TZID=Europe/Andorra:20141106T200000
DTSTAMP:20260420T224926
CREATED:20200729T170646Z
LAST-MODIFIED:20200902T155704Z
UID:9902-1415304000-1415304000@octubre.cat
SUMMARY:Pierre Bastien
DESCRIPTION:Dijous 6 de novembre a les 20.00h. Inclòs dins del cicle de música Barcelona Escenari 2014. Entrada 6€\, socis 4€  \n  \n  \n\n(mecano audiovisual)  L’artista francès Pierre Bastien\, afincat al barri del Carmel de Barcelona\, torna a la carretera carregat del seu mecano musical renovat per oferir un espectacle total on combina música mecànica\, acompanyada de la seva trompeta\, amb projeccions audiovisuals de la instal·lació sonorora en qüestió i d’altres imatges d’arxiu. Tota una experiència sensorial.  Preu: 6 euros (socis 4 euros)  Reserva d’entrades al tel. 963157799 o al correu info@octubre.cat (indiqueu nom i cognoms i telèfon de contacte)  Organitza: Octubre Centre de Cultura Contemporània de València Programació artística: Francesc Burgos (lacasacalba.org) Patrocina: Institut de Cultura de Barcelona
URL:https://octubre.cat/activitat/pierre-bastien/
CATEGORIES:Barcelona Escenari 2014 (música)
ATTACH;FMTTYPE=image/jpeg:https://octubre.cat/www/wp-content/uploads/2020/07/activitat2147.jpg
END:VEVENT
END:VCALENDAR