BEGIN:VCALENDAR
VERSION:2.0
PRODID:-//Octubre Centre de Cultura Contemporània - ECPv5.1.6//NONSGML v1.0//EN
CALSCALE:GREGORIAN
METHOD:PUBLISH
X-WR-CALNAME:Octubre Centre de Cultura Contemporània
X-ORIGINAL-URL:https://octubre.cat
X-WR-CALDESC:Events for Octubre Centre de Cultura Contemporània
BEGIN:VTIMEZONE
TZID:Europe/Andorra
BEGIN:DAYLIGHT
TZOFFSETFROM:+0100
TZOFFSETTO:+0200
TZNAME:CEST
DTSTART:20180325T010000
END:DAYLIGHT
BEGIN:STANDARD
TZOFFSETFROM:+0200
TZOFFSETTO:+0100
TZNAME:CET
DTSTART:20181028T010000
END:STANDARD
END:VTIMEZONE
BEGIN:VEVENT
DTSTART;TZID=Europe/Andorra:20181004T000000
DTEND;TZID=Europe/Andorra:20181028T000000
DTSTAMP:20260420T141209
CREATED:20200729T173130Z
LAST-MODIFIED:20200905T142740Z
UID:11272-1538611200-1540684800@octubre.cat
SUMMARY:Petites mirades: l'art en els processos de pau
DESCRIPTION:Inauguració: dijous 4 d’octubre a les 19.00h. \nAmb “Petites Mirades: l’art en els processos de pau”\, l’Associació CREART presenta dintre de la Mostra Viva de la Mediterrània una selecció d’obres que recullen el treball de l’ONGD a la Franja de Gaza des de 2008. Són peces creades per xiquets i adolescents palestins amb els quals s’ha treballat mitjançant projectes de suport psicosocial i d’Educació per a la Pau a través de l’experiència artística. L’exposició mostra les dues vessants del treball terapèutic que CREART realitza des de l’art: d’una banda\, la que aborda el conflicte directament i mostra les mirades de xiquets i joves sota una ocupació militar que desdibuixa i distorsiona la seua infància. De l’altra\, la que permet al xiquet recuperar les dimensions que el conflicte armat li ha robat\, com són els somnis\, les il·lusions o les projeccions de la seua identitat. \nExposició inclosa dins les activitats de Mostra Viva del Mediterrani 2018\nComissariada per Chené Gómez.\nUna producció de CREART.
URL:https://octubre.cat/activitat/petites-mirades-lart-en-els-processos-de-pau/
LOCATION:Sala d’exposicions
CATEGORIES:Exposicions
ATTACH;FMTTYPE=image/jpeg:https://octubre.cat/www/wp-content/uploads/2020/07/activitat3111.jpg
END:VEVENT
END:VCALENDAR