BEGIN:VCALENDAR
VERSION:2.0
PRODID:-//Octubre Centre de Cultura Contemporània - ECPv5.1.6//NONSGML v1.0//EN
CALSCALE:GREGORIAN
METHOD:PUBLISH
X-WR-CALNAME:Octubre Centre de Cultura Contemporània
X-ORIGINAL-URL:https://octubre.cat
X-WR-CALDESC:Events for Octubre Centre de Cultura Contemporània
BEGIN:VTIMEZONE
TZID:Europe/Andorra
BEGIN:DAYLIGHT
TZOFFSETFROM:+0100
TZOFFSETTO:+0200
TZNAME:CEST
DTSTART:20090329T010000
END:DAYLIGHT
BEGIN:STANDARD
TZOFFSETFROM:+0200
TZOFFSETTO:+0100
TZNAME:CET
DTSTART:20091025T010000
END:STANDARD
END:VTIMEZONE
BEGIN:VEVENT
DTSTART;TZID=Europe/Andorra:20090711T000000
DTEND;TZID=Europe/Andorra:20090712T000000
DTSTAMP:20260420T221946
CREATED:20200729T182537Z
LAST-MODIFIED:20200729T182537Z
UID:12888-1247270400-1247356800@octubre.cat
SUMMARY:Perifèries09
DESCRIPTION:De l’11 de juny al 12 de juliol: Itinerari per les botigues del barri.  \n  \n  \n\n1.- Botiga: Asilo del Libro     Artista:: Robina Rebolledo        Comissari: Perifèries09 2.- Botiga: Gran Menaje       Artista: Vincent Ganivet            Comissari: D. Arlándis i J. Marroquí 3.- Botiga: Almonedista        Artista:  Mary Seles                  Comissari: J. Luís Pérez Pont 4.- Botiga:  Tatuarte              Artista: A. Muñoz                     Comissari: Perifèries09 5.- Botiga: Paco i Pepita        Artista: F. Jiménez Landa       Comissari: Magatzems A&W 6.- Botiga: La posibilitat d’un illa Artista: gesto y resto          Comissari: La Perrera 7.- Botiga: Colla Monlleó      Artista: Greta Alfro                   Comissari: otro espacio 8.- Botiga: Pardaleria           Artista: Mijo Miquel                   Comissari: Perifèries09 9.- Botiga: Tatoo                  Artista: Enrique Marty               Comissari: Isabel Tejeda 10.- Botiga: Curtidos Collado Artista:  Alfred Pons                Galeria: Cánem 11.- Botiga: Paco Martí        Artista: Aggtelek                       Galeria: Luís Adeleantado 12.- Hostal: Antita Morellana Artista: Joan Fontcuberta        Galeria: Espai Visor 13.- Botiga: Ferreteria          Artista: Mira Bernabeu              Galeria: Valle Ortí 14.- Botiga: Victor Llumener  Artista: Aldo Iacobelli               Galeria: Tomás March 15.- Botiga: Peris Roca        Artista: Noe Bermejo                 Comissari: Perifèries09 16.- Botiga: Sombrereria Alvero Artista: Aldo Gianotti            Galeria: Rosa Santos 17.- Botiga: Forn A. Martínez     Artista: Pacual  Arnal           Comissari: A. De los Ángeles 18.- Botiga: Federico Martí    Artista: Kribi Heral                    Galeria: La Nave 19.- Botiga: Bar Boatella       Artista: Rafael Tormo i Cuenca Comissari:Johanna Moreno  PERIFÈRIES 09 cercant la realitat amb la veu d’un nosaltres  De l’11 de juny al 12 de juliol                  Les activitats de Perifèries 09 han conclòs a l’Octubre CCC\, si no passa res\, fins a la pròxima edició\, però Perifèries 09 continua viu gràcies a l’itinerari que es pot realitzar a través de les botigues i locals del barri del Carme.   Aquesta secció proposa un recorregut per allà on no sembla estar present l’art\, espais que queden fora de focus\, que queden en la fràgil línia de la vida o que resisteixen des de l’oblit.  En aquest recorregut hem suggerit a galeries d’art\, crítics\, col·lectius i algun que altre despistat de la ciutat que ens introduïsquen en un terreny desconegut\, al marge dels àmbits professionals que precisen aquells “que n’entenen”.   Pel camí\, intentarem reconèixer-nos i tractar que la queixa no siga una vegada més l’espai on tot s’acaba\, sinó més aviat el punt de partida des del qual començar.
URL:https://octubre.cat/activitat/periferies09-2/
LOCATION:No definit
CATEGORIES:Literatura
ATTACH;FMTTYPE=image/bmp:https://octubre.cat/www/wp-content/uploads/2020/07/activitat920.bmp
END:VEVENT
END:VCALENDAR