BEGIN:VCALENDAR
VERSION:2.0
PRODID:-//Octubre Centre de Cultura Contemporània - ECPv5.1.6//NONSGML v1.0//EN
CALSCALE:GREGORIAN
METHOD:PUBLISH
X-WR-CALNAME:Octubre Centre de Cultura Contemporània
X-ORIGINAL-URL:https://octubre.cat
X-WR-CALDESC:Events for Octubre Centre de Cultura Contemporània
BEGIN:VTIMEZONE
TZID:Europe/Andorra
BEGIN:DAYLIGHT
TZOFFSETFROM:+0100
TZOFFSETTO:+0200
TZNAME:CEST
DTSTART:20090329T010000
END:DAYLIGHT
BEGIN:STANDARD
TZOFFSETFROM:+0200
TZOFFSETTO:+0100
TZNAME:CET
DTSTART:20091025T010000
END:STANDARD
END:VTIMEZONE
BEGIN:VEVENT
DTSTART;TZID=Europe/Andorra:20090531T190000
DTEND;TZID=Europe/Andorra:20090531T190000
DTSTAMP:20260420T191953
CREATED:20200729T182436Z
LAST-MODIFIED:20200729T182436Z
UID:12831-1243796400-1243796400@octubre.cat
SUMMARY:Perico Sambeat Trio
DESCRIPTION:Diumenge 31 de maig a les 19.00h: Perico Sambeat Trio  \n  \n  \n\nPerico Sambeat és\, sense dubte\, el màxim exponent del jazz valencià i un dels saxofonistes més reconeguts en l’àmbit internacional. La seua carrera\, llarga i prolífica\, té un mèrit que pocs músics han arribat a assolir. Ha treballat amb grans monstres del jazz com Lee Konitz\, Jimmy Cobb\, Joe Chambers\, Louis Bellson\, Michael Brecker\, Maria Schneider\, Pat Metheny o Bruce Barth\, entre molts altres.   Actualment gira amb el trio Colina\, Miralta\, Sambeat\, que amb el seu últim disc\, Flamenco Big Band\, s’ha tornat a posar bona part de la crítica especialitzada a la butxaca. L’àlbum va guanyar el Premi Enderrock al millor disc de jazz de l’any 2008 i s’ha distribuït internacionalment a través del segell Verve.  Perico Sambeat torna a l’Octubre\, en aquesta ocasió acompanyat per dos grans músics valencians\, el veterà Vicente Espí i Albert Sanz\, un dels pianistes de jazz amb major projecció.  Formació:  Perico Sambeat: saxo Albert Sanz: piano i teclats Vicente Espí: bateria
URL:https://octubre.cat/activitat/perico-sambeat-trio/
LOCATION:No definit
CATEGORIES:Diumenges de Jazz!
ATTACH;FMTTYPE=image/jpeg:https://octubre.cat/www/wp-content/uploads/2020/07/activitat860.jpg
END:VEVENT
END:VCALENDAR