BEGIN:VCALENDAR
VERSION:2.0
PRODID:-//Octubre Centre de Cultura Contemporània - ECPv5.1.6//NONSGML v1.0//EN
CALSCALE:GREGORIAN
METHOD:PUBLISH
X-WR-CALNAME:Octubre Centre de Cultura Contemporània
X-ORIGINAL-URL:https://octubre.cat
X-WR-CALDESC:Events for Octubre Centre de Cultura Contemporània
BEGIN:VTIMEZONE
TZID:Europe/Andorra
BEGIN:DAYLIGHT
TZOFFSETFROM:+0100
TZOFFSETTO:+0200
TZNAME:CEST
DTSTART:20110327T010000
END:DAYLIGHT
BEGIN:STANDARD
TZOFFSETFROM:+0200
TZOFFSETTO:+0100
TZNAME:CET
DTSTART:20111030T010000
END:STANDARD
END:VTIMEZONE
BEGIN:VEVENT
DTSTART;TZID=Europe/Andorra:20111001T000000
DTEND;TZID=Europe/Andorra:20111101T000000
DTSTAMP:20260424T172344
CREATED:20200729T165602Z
LAST-MODIFIED:20200830T095533Z
UID:9265-1317427200-1320105600@octubre.cat
SUMMARY:Perico Pastor: la Bíblia il·luminada
DESCRIPTION:L’Obra Social de CatalunyaCaixa presenta l’exposició “Perico Pastor: La Bíblia Il·luminada”. A partir d’una selecció d’imatges\, mostra l’encàrrec que Enciclopèdia Catalana li va fer a Perico Pastor\, reconegut dibuixant i il·lustrador\, l’any 2007 : realitzar més d’un miler de dibuixos per tal d’il·lustrar els diferents llibres que conformen la Bíblia. Aquesta Bíblia es va editar aquell mateix any en una edició de luxe. \nEls dibuixos originals no s’havien vist ni havien estat exposat abans\, fins que es van exposar al públic a la Sala Entresòl de La Pedrera de CatalunyaCaixa des del dia 23 de desembre fins el 20 de gener de 2011. L’exposició a l’Octubre CCC és la segona vegada que es mostra al públic. \nL’exposició “Perico Pastor: la Bíblia il·luminada” està constituïda per vint-i-quatre quadres\, a dins del quals s’hi poden veure una selecció d’aquarel·les de cada llibre de la Bíblia (cada quadre el conformen una selecció de 10-15 petites il·lustracions\, en blanc i negre o en color). A part de les aquarel·les\, l’exposició també s’acompanya de 3 volums de la Bíblia d’Enciclopedia Catalana per tal que el públic pugui acostar-se i veure totes les il·lustracions. A través d’una pantalla es poden veure les més de 1000 obres que Perico Pastor va realitzar entorn d’aquest projecte. L’ARTISTA Perico Pastor és\, sens dubte\, un dels artistes més destacats de la pintura actual del nostre país. Amb una absoluta maduresa coma a persona i com a artista\, ha omplert de llum i de color les pàgines de la Bíblia amb 1.000 il·lustracions\, 350 en color i 650 en blanc i negre. \nL’artista no s’ha limitat a il·lustrar el text\, sinó que s’hi ha submergit i s’ha deixat imbuir pels textos de la Bíblia. Les seves magnífiques imatges\, amb un estil figuratiu\, fresc i acolorit\, són el resultat d’aquesta profunda immersió. Respecte al seu treball d’il·lustrador\, Perico Pastor diu: “Sempre he entès la il·lustració com un diàleg amb el text: l’l·lustrador és un lector\, un lector particularment atent\, però no un amanuense\, ni molt menys algú que s’ocupa de representar allò que diu el text\, si bé amb altres mitjans. Crec que tots hem sentit decepció\, alguna vegada\, en trobar-nos amb esforços massa literalistes que no corresponien a la imatge que un text ens havia suggerit. Aquest lector atent no té perquè estar d’acord amb els arguments o amb les estratègies narratives del seu text. I el repte\, per a ell\, serà de manifestar suaument aquestes dissensions\, amb alguna imatge que faci que els lectors s’hi aturin”. \nPerico Pastor va néixer a la Seu d’Urgell el 1953. Estudià a Barcelona\, emigrà a Nova York el 1976\, i s’hi quedà uns dotze anys. Va publicar les seves il·lustracions a Harper’s\, The Village Voice\, i sobre tot a The New York Times\, cosa que li va permetre de pintar sense presses. El 1980 exposa per primera vegada\, al Cornelia Street Café\, de Nova York\, i al 1983 per primera vegada en una galeria: Estampa\, de Madrid. Des d’aleshores ha compaginat il·lustració i pintura\, amb exposicions a Barcelona\, Madrid\, Granada\, Hong Kong\, Paris\, Tokio\, Sag Harbor\, Miami\, etc. Des de 1989 viu a Barcelona\, dedicat plenament a la pintura\, la il·lustració de premsa (El País\, International Herald Tribune\, La Vanguardia…) o editorial (Amigos\, el Pequeño Cuento\, La Bíblia…) i també a projectes com crear la imatge dels deu anys de Gesaworld \nExposició produïda per l’Obra Social de CatalunyaCaixa\nDisseny i direcció del muntatge: Lluís Pera\nDisseny gràfic: Lali Almonacid
URL:https://octubre.cat/activitat/perico-pastor-la-biblia-illuminada/
LOCATION:Sala d’exposicions
CATEGORIES:Exposicions
ATTACH;FMTTYPE=image/jpeg:https://octubre.cat/www/wp-content/uploads/2020/07/activitat1497.jpg
END:VEVENT
END:VCALENDAR