BEGIN:VCALENDAR
VERSION:2.0
PRODID:-//Octubre Centre de Cultura Contemporània - ECPv5.1.6//NONSGML v1.0//EN
CALSCALE:GREGORIAN
METHOD:PUBLISH
X-WR-CALNAME:Octubre Centre de Cultura Contemporània
X-ORIGINAL-URL:https://octubre.cat
X-WR-CALDESC:Events for Octubre Centre de Cultura Contemporània
BEGIN:VTIMEZONE
TZID:Europe/Andorra
BEGIN:DAYLIGHT
TZOFFSETFROM:+0100
TZOFFSETTO:+0200
TZNAME:CEST
DTSTART:20100328T010000
END:DAYLIGHT
BEGIN:STANDARD
TZOFFSETFROM:+0200
TZOFFSETTO:+0100
TZNAME:CET
DTSTART:20101031T010000
END:STANDARD
END:VTIMEZONE
BEGIN:VEVENT
DTSTART;TZID=Europe/Andorra:20100429T193000
DTEND;TZID=Europe/Andorra:20100429T193000
DTSTAMP:20260421T010405
CREATED:20200729T164845Z
LAST-MODIFIED:20200729T182913Z
UID:8805-1272569400-1272569400@octubre.cat
SUMMARY:Pere Joan Martorell i Rubén Luzón
DESCRIPTION:Dijous 29 d’abril\, a les 19.30h: Pere Joan Martorell i Rubén Luzón.   \n  \n  \n\nPere Joan Martorell (Lloseta\, 1972) és\, actualment\, Director General de Cultura del Govern de les Illes Balears\, però també és un poeta que ha publicat Del record contra el temps; Via Crucis (aquestes dues obres dins volums col·lectius); La veu del silenci; Curs de matèria reservada; La tardor de l’ombra i Llibre d’Eros. L’any 2001 va aparèixer antologat en 21 poetes del segle XXI\, d’Ernest Farrés. La seua poesia balla a frec de la vida i la mort\, recull el bo i millor de l’expressionisme i també del simbolisme -sense oblidar un cert toc romàntic i visionari-\, i s’enfronta a les grans preguntes amb el bagatge d’una paraula esmolada i punyent\, plena de contradiccions i incerteses. No defuig els grans temes de la poesia\, contradient els qui no s’atreveixen a fer-ho per pura imperícia o bé per manca de vidència. Ell\, altrament\, mostra el mestratge d’aquells que\, nus\, caminen\, ploren i es fan preguntes.   Rubén Luzón Díaz va néixer a València el 21 de setembre de 1982. És llicenciat en Filologia Catalana i en Filologia Hispànica per la Universitat de València. Actualment és beneficiari d’un ajut predoctoral d’investigació i col·laborador habitual de la revista de crítica literària Caràcters. La seua trajectòria poètica\, encara breu per la seua joventut\, però prometedora\, es va iniciar amb la publicació de Cames ajudeu-me (Denes\, València\, 2005)\, obra guanyadora del IV Certament César Simón de poesia. Recentment ha estat inclòs a Pedra foguera. Antologia de poesia jove als Països Catalans (Documenta Balear\, Palma de Mallorca\, 2008). També el 2008 va guanyar el premi Ausiàs March de poesia que atorga l’Ajuntament de Gandia amb el poemari Baladaspirina.
URL:https://octubre.cat/activitat/pere-joan-martorell-i-ruben-luzon/
LOCATION:No definit
CATEGORIES:Escriptors al terrat
ATTACH;FMTTYPE=image/jpeg:https://octubre.cat/www/wp-content/uploads/2020/07/activitat1154.jpg
END:VEVENT
END:VCALENDAR