BEGIN:VCALENDAR
VERSION:2.0
PRODID:-//Octubre Centre de Cultura Contemporània - ECPv5.1.6//NONSGML v1.0//EN
CALSCALE:GREGORIAN
METHOD:PUBLISH
X-WR-CALNAME:Octubre Centre de Cultura Contemporània
X-ORIGINAL-URL:https://octubre.cat
X-WR-CALDESC:Events for Octubre Centre de Cultura Contemporània
BEGIN:VTIMEZONE
TZID:Europe/Andorra
BEGIN:DAYLIGHT
TZOFFSETFROM:+0100
TZOFFSETTO:+0200
TZNAME:CEST
DTSTART:20160327T010000
END:DAYLIGHT
BEGIN:STANDARD
TZOFFSETFROM:+0200
TZOFFSETTO:+0100
TZNAME:CET
DTSTART:20161030T010000
END:STANDARD
END:VTIMEZONE
BEGIN:VEVENT
DTSTART;TZID=Europe/Andorra:20161201T190000
DTEND;TZID=Europe/Andorra:20161201T190000
DTSTAMP:20260421T054311
CREATED:20200729T172216Z
LAST-MODIFIED:20200729T185650Z
UID:10899-1480618800-1480618800@octubre.cat
SUMMARY:Pere Estupinyà
DESCRIPTION:Dijous 1 de desembre a les 19.00h. Acte conduit per la periodista Reis Juan. Entrada lliure fins completar l’aforament.  \n  \n  \n\n Conversa a l’Espai Ciència Investigació científica per millorar la nostra vida  “La periodista Reis Juan condueix un programa de ràdio sense ràdio\, amb el suport tècnic de Pepe Moreno”  Pere Estupinyà Divulgador científic\, escriptor\, conferenciant i director del programa “El Cazador de Cerebros” a TVE.  Pere Estupinyà és bioquímic\, escriptor\, divulgador científic\, conferenciant i director del programa “El Cazador de Cerebros” a TVE. Va començar la seua carrera al programa REDES de TVE\, on va ser guionista i editor durant quatre anys. Al 2007 va obtenir el prestigiós “Knight Science Journalism Fellowship” al MIT de Boston\, on va nàixer el seu alter ego “El Lladre de Cervells”\, que s’ha transformat en dos llibres (Debate 2010/La Magrana 2011 i Debate/Ara Llibres 2016)\, un programa de televisió a Ecuador “El Ladrón de Cerebros por Ecuador” i l’actual “Cazador de Cerebros” a TVE. Del 2007 al 2016 Pere ha viscut a Boston\, Washington DC i Nova York\, on també ha escrit “S=EX2: La Ciència del Sexe” (Debate/Rosa dels Vents 2013)\, ha treballat al NIH i durant 5 anys fou “Knight Science Journalism Tracker” al MIT\, així com consultor d’institucions i organismes internacionals com el BID o la OEA\, participant en conferències i projectes a diversos països d’Amèrica Llatina. Actualment resideix a Madrid.
URL:https://octubre.cat/activitat/pere-estupinya/
LOCATION:Sala d’actes
CATEGORIES:Espai Ciència
ATTACH;FMTTYPE=image/jpeg:https://octubre.cat/www/wp-content/uploads/2020/07/activitat2710.jpg
END:VEVENT
END:VCALENDAR