BEGIN:VCALENDAR
VERSION:2.0
PRODID:-//Octubre Centre de Cultura Contemporània - ECPv5.1.6//NONSGML v1.0//EN
CALSCALE:GREGORIAN
METHOD:PUBLISH
X-WR-CALNAME:Octubre Centre de Cultura Contemporània
X-ORIGINAL-URL:https://octubre.cat
X-WR-CALDESC:Events for Octubre Centre de Cultura Contemporània
BEGIN:VTIMEZONE
TZID:Europe/Andorra
BEGIN:DAYLIGHT
TZOFFSETFROM:+0100
TZOFFSETTO:+0200
TZNAME:CEST
DTSTART:20140330T010000
END:DAYLIGHT
BEGIN:STANDARD
TZOFFSETFROM:+0200
TZOFFSETTO:+0100
TZNAME:CET
DTSTART:20141026T010000
END:STANDARD
END:VTIMEZONE
BEGIN:VEVENT
DTSTART;TZID=Europe/Andorra:20140529T193000
DTEND;TZID=Europe/Andorra:20140529T193000
DTSTAMP:20260423T115641
CREATED:20200729T170430Z
LAST-MODIFIED:20200730T041117Z
UID:9757-1401391800-1401391800@octubre.cat
SUMMARY:Pere Bessó i Salvador Jàfer
DESCRIPTION:Dijous 29 de maig a les 19.30h. Tertúlia amb els poetes Pere Bessó i Salvador Jàfer. Amb la col·laboració de l’AELC  \n  \n  \n\n Tertúlia amb Pere Bessó i Salvador Jàfer  Pere Bessó (València\, 1951). Llicenciat en Filologia Moderna. Catedràtic de Llengua i Literatura Castellana en l’IES ‘La Moreria’\, de Mislata fins a la seua jubilació (2011). Publicà\, inicialment en castellà i participà activament en la moguda generacional de la poesia dels 70 (director de les col·leccions Lindes i Fuentearnera) i fou un dels impulsors de les tertúlies i de la col·lecció La Forest d’Arana (a partir de 1986). Té una vintena de poemaris publicats en català\, el darrer dels quals és Ephemera (Germania 2013). Entre altres\, ha obtingut els premis Pasqual Assins\, Ausiàs March Senyoriu de Beniarjó\, Ausiàs March de Gandia\, Vicent Andrés Estellés de Burjassot i Vicent Andrés Estellés dels Premis Octubre. En l’actualitat\, Pere Bessó es troba capficat en l’estudi de la lírica d’expressió romanesa\, la qual cosa li ha permés traduir directament del romanés algunes de les veus consagrades i\, sobretot\, els nous valors emergents de les darreres generacions de Moldàvia i Romania.  Salvador Jàfer i Sanxis va nàixer al Ràfol de Salem (la Vall d’Albaida) el 31 de gener del 1954. És llicenciat en Filosofia i Lletres (Filologia Moderna) i ha exercit la docència com a professor de català en l’ensenyament secundari\, en l’universitari i a l’Escola Oficial d’Idiomes fins a la seua jubilació (2014). Obra poètica publicada: L’esmorteïda estela de la platja (1975)\, Lívius Diamant (1975)\, Els caçadors salvatges (1984) i Navegant obscur (1987). La seua producció poemàtica està recollida en el volum Produccions Ansietat (1988). Ha traduït textos poètics de Pier Paolo Pasolini\, Henri Michaux\, Dino Campana\, Fernando Pessoa\, Federico García Lorca\, Rafael Alberti\, Wallace Stevens\, Guido Cavalcanti\, André Breton.  Col·laborà en la creació del col·lectiu d’interpretació poètica Selva Negra (1986)\, amb Fanel Falcó\, Francesc Garcia Donet i Joan Francesc Bolufer\, i en la performance de Poiemusia (1986)\, amb Pep Llopis i Montse Anfruns. En els darrers anys els seus esforços creatius s’han centrat en l’elaboració i manteniment de La Terra d’Enlloc: Produccions Utopia\, una pàgina d’Internet on dissenya i explora els seus somnis i els seus neguits. Amb el poema El desert (2002) obtingué el Premi del Escriptors Valencians.
URL:https://octubre.cat/activitat/pere-besso-i-salvador-jafer/
LOCATION:Terrat
CATEGORIES:Escriptors al terrat
ATTACH;FMTTYPE=image/jpeg:https://octubre.cat/www/wp-content/uploads/2020/07/activitat2054.jpg
END:VEVENT
END:VCALENDAR