BEGIN:VCALENDAR
VERSION:2.0
PRODID:-//Octubre Centre de Cultura Contemporània - ECPv5.1.6//NONSGML v1.0//EN
CALSCALE:GREGORIAN
METHOD:PUBLISH
X-WR-CALNAME:Octubre Centre de Cultura Contemporània
X-ORIGINAL-URL:https://octubre.cat
X-WR-CALDESC:Events for Octubre Centre de Cultura Contemporània
BEGIN:VTIMEZONE
TZID:Europe/Andorra
BEGIN:DAYLIGHT
TZOFFSETFROM:+0100
TZOFFSETTO:+0200
TZNAME:CEST
DTSTART:20140330T010000
END:DAYLIGHT
BEGIN:STANDARD
TZOFFSETFROM:+0200
TZOFFSETTO:+0100
TZNAME:CET
DTSTART:20141026T010000
END:STANDARD
END:VTIMEZONE
BEGIN:VEVENT
DTSTART;TZID=Europe/Andorra:20140626T190000
DTEND;TZID=Europe/Andorra:20140626T190000
DTSTAMP:20260421T072458
CREATED:20200729T170534Z
LAST-MODIFIED:20200730T041154Z
UID:9824-1403809200-1403809200@octubre.cat
SUMMARY:Per una diversitat inclusiva sense barreres
DESCRIPTION:Dijous 26 de juny a les 19.00h. Debat organitzat per la sectorial de Benestar de la Coalició Compromís  \n  \n  \n\n Debat amb: –Josep Vicent Vayà\, sectorial Dependència i Discapacitat –Toni Hernandis\, sectorial Dependència i Discapacitat –Julio Llopis\, sectorial Inserció Sociolaboral –Ismael Llorens\, Federació Vida Independent –Mònica Oltra\, diputada a les Corts  Acte organitzat per la sectorial de Benestar de la Coalició Compromís
URL:https://octubre.cat/activitat/per-una-diversitat-inclusiva-sense-barreres/
LOCATION:Sala d’actes
CATEGORIES:Conferències i congressos
ATTACH;FMTTYPE=image/jpeg:https://octubre.cat/www/wp-content/uploads/2020/07/activitat2105.jpg
END:VEVENT
END:VCALENDAR