BEGIN:VCALENDAR
VERSION:2.0
PRODID:-//Octubre Centre de Cultura Contemporània - ECPv5.1.6//NONSGML v1.0//EN
CALSCALE:GREGORIAN
METHOD:PUBLISH
X-WR-CALNAME:Octubre Centre de Cultura Contemporània
X-ORIGINAL-URL:https://octubre.cat
X-WR-CALDESC:Events for Octubre Centre de Cultura Contemporània
BEGIN:VTIMEZONE
TZID:Europe/Andorra
BEGIN:DAYLIGHT
TZOFFSETFROM:+0100
TZOFFSETTO:+0200
TZNAME:CEST
DTSTART:20100328T010000
END:DAYLIGHT
BEGIN:STANDARD
TZOFFSETFROM:+0200
TZOFFSETTO:+0100
TZNAME:CET
DTSTART:20101031T010000
END:STANDARD
END:VTIMEZONE
BEGIN:VEVENT
DTSTART;TZID=Europe/Andorra:20100609T190000
DTEND;TZID=Europe/Andorra:20100609T190000
DTSTAMP:20260421T092453
CREATED:20200729T164828Z
LAST-MODIFIED:20200729T182858Z
UID:8789-1276110000-1276110000@octubre.cat
SUMMARY:Per què tants insectes?
DESCRIPTION:Dimecres 9 de juny\, a les 19.00h: Cicle Biodiversitat. “Per què tants insectes?”\, conferència a càrrec de Joaquim Baixeras (Universitat de València – Institut Cavanilles de Biodiversitat i Biologia Evolutiva). Aquesta conferència clou el cicle dedicat a la biodiversitat.   \n  \n  \n\nPer què tants insectes? Els insectes representen el grup animal més divers. Els insectes s’han diversificat a tots els hàbitats coneguts amb l’excepció del medi marí i dels hàbitats més extrems de la terra. Per què hi ha tantes espècies d’insectes és quelcom difícil d’explicar i continua sent un problema central de la biologia. Diverses respostes són possibles\, des de la forma i funció dels insectes\, o el resultat d’una sèrie de contingències històriques. O\, fins i tot\, totes dues coses alhora. Si fem l’esforç d’introduir-nos en el seu món i revisem què els fa tan diferents de la resta dels animals\, potser trobem algunes claus per a entendre el seu èxit.   Joaquim Baixeras (1959) és professor del Departament de Zoologia de la Universitat de València des de 1984 i investigador de l’Institut Cavanilles de Biodiversitat i Biologia Evolutiva des de la seua creació al 2000. També n’ha sigut vicedirector. Ha dedicat la seua carrera investigadora a l’estudi de les papallones des de diverses perspectives. És col·laborador habitual en activitats divulgatives i ha dirigit l’exposició itinerant per a estudiants de secundària Senyor Darwin: quina gran idea! (2009-2010). És vicepresident de la Societat Europea de Lepidopterologia i de la Lepidopterist’s Society.  Organitzat per Acció Cultural del País Valencià amb la col·laboració de l’Institut d’Estudis Catalans\, la Càtedra de Divulgació de la Ciència de la Universitat de València i el CSIC.
URL:https://octubre.cat/activitat/per-que-tants-insectes/
LOCATION:No definit
CATEGORIES:Espai Ciència
ATTACH;FMTTYPE=image/jpeg:https://octubre.cat/www/wp-content/uploads/2020/07/activitat1136.jpg
END:VEVENT
END:VCALENDAR