BEGIN:VCALENDAR
VERSION:2.0
PRODID:-//Octubre Centre de Cultura Contemporània - ECPv5.1.6//NONSGML v1.0//EN
CALSCALE:GREGORIAN
METHOD:PUBLISH
X-WR-CALNAME:Octubre Centre de Cultura Contemporània
X-ORIGINAL-URL:https://octubre.cat
X-WR-CALDESC:Events for Octubre Centre de Cultura Contemporània
BEGIN:VTIMEZONE
TZID:Europe/Andorra
BEGIN:DAYLIGHT
TZOFFSETFROM:+0100
TZOFFSETTO:+0200
TZNAME:CEST
DTSTART:20120325T010000
END:DAYLIGHT
BEGIN:STANDARD
TZOFFSETFROM:+0200
TZOFFSETTO:+0100
TZNAME:CET
DTSTART:20121028T010000
END:STANDARD
END:VTIMEZONE
BEGIN:VEVENT
DTSTART;TZID=Europe/Andorra:20121122T193000
DTEND;TZID=Europe/Andorra:20121122T193000
DTSTAMP:20260421T033106
CREATED:20200729T165843Z
LAST-MODIFIED:20200729T183937Z
UID:9427-1353612600-1353612600@octubre.cat
SUMMARY:Per què sóc amic del poble jueu?
DESCRIPTION:Dijous 22 de novembre a les 19.30h. Conferència a càrrec de Vicenç Villatoro. Acte organitzat per l’Associació d’Amistat Judeo Cristiana de València  \n  \n  \n\n Conferència a càrrec de Vicenç Villatoro\, director de l’Institut Ramon Llull  Acte organitzat per l’Associació d’Amistat Judeo Cristiana de València (AJCV)
URL:https://octubre.cat/activitat/per-que-soc-amic-del-poble-jueu/
LOCATION:No definit
CATEGORIES:Conferències i congressos
ATTACH;FMTTYPE=image/jpeg:https://octubre.cat/www/wp-content/uploads/2020/07/activitat1676.jpg
END:VEVENT
END:VCALENDAR