BEGIN:VCALENDAR
VERSION:2.0
PRODID:-//Octubre Centre de Cultura Contemporània - ECPv5.1.6//NONSGML v1.0//EN
CALSCALE:GREGORIAN
METHOD:PUBLISH
X-WR-CALNAME:Octubre Centre de Cultura Contemporània
X-ORIGINAL-URL:https://octubre.cat
X-WR-CALDESC:Events for Octubre Centre de Cultura Contemporània
BEGIN:VTIMEZONE
TZID:Europe/Andorra
BEGIN:DAYLIGHT
TZOFFSETFROM:+0100
TZOFFSETTO:+0200
TZNAME:CEST
DTSTART:20170326T010000
END:DAYLIGHT
BEGIN:STANDARD
TZOFFSETFROM:+0200
TZOFFSETTO:+0100
TZNAME:CET
DTSTART:20171029T010000
END:STANDARD
END:VTIMEZONE
BEGIN:VEVENT
DTSTART;TZID=Europe/Andorra:20170609T000000
DTEND;TZID=Europe/Andorra:20170610T000000
DTSTAMP:20260421T162213
CREATED:20200729T172629Z
LAST-MODIFIED:20200729T185843Z
UID:11171-1496966400-1497052800@octubre.cat
SUMMARY:Per la igualtat lingüística (ELEN) a València
DESCRIPTION:Divendres 9 i dissabte 10 de juny. Presentació del Protocol per a la Garantia dels Drets Lingüístics i sessió de treball en xarxa\, organitzat per la Xarxa Europea per la Igualtat Lingüística (Equality Lenguage European Network\, ELEN). Assistència per inscripció.  \n  \n  \n\n Acció Cultural del País Valencià fa anys que treballa en l’articulació de complicitats en l’àmbit europeu\, perquè és un marc que cada dia guanya i guanyarà més pes real\, i on hem de ser presents de manera efectiva i continuada\, per a poder garantir els drets lingüístics dels valencians i projectar la nostra realitat.  En aquesta línia\, Ferran Suay\, membre de la Junta Directiva d’ACPV i responsable de Política Lingüística de l’entitat\, ha estat nomenat recentment president d’ELEN\, la Xarxa Europea per la Igualtat Lingüística\, formada per 150 entitats de 22 estats europeus: és la principal organització a favor de les llengües i cultures minoritzades d’Europa  i gaudeix d’un estatus consultiu davant del Parlament Europeu\, del Consell d’Europa\, de l’ONU i de l’UNESCO.  Un dels objectius d’ACPV era aconseguir que el Comité de Direcció d’ELEN tingués una de les seues reunions ordinàries de treball a València\, i que alhora poguera compatibilitzar aquesta reunió amb sessions obertes\, per a conèixer la realitat valenciana i també per a donar a conèixer al govern\, entitats i públic en general el treball que fa.   Divendres 9 juny  –12h. Palau Borja\, recepció oficial del President de les Corts Valencianes  –19h. Octubre CCC: Presentació del Protocol per a la Garantia dels Drets Lingüístics   Dissabte 10 juny  –9h – 11h. Octubre CCC. Sessió de treball en xarxa. Sessió oberta de treball \, per tal que persones\, organitzacions i governs puguen presentar el seu treball i els seus projectes sobre revitalització lingüística\, i per a facilitar la cooperació i el desenvolupament de projectes amb tots aquells que vulguen donar suport o treballar amb ELEN\, en alguns dels nostres projectes lingüístics.   Cal confirmació d’assistència a info@acpv.cat  Organitzen: -Xarxa Europea per la Igualtat Lingüística (Equality Lenguage European Network\, ELEN). -Acció Cultural del País Valencià (ACPV) Nota. La llengua de treball serà l’anglès.
URL:https://octubre.cat/activitat/per-la-igualtat-linguistica-elen-a-valencia/
LOCATION:No definit
CATEGORIES:Conferències i congressos
ATTACH;FMTTYPE=image/jpeg:https://octubre.cat/www/wp-content/uploads/2020/07/activitat2847.jpg
END:VEVENT
END:VCALENDAR