BEGIN:VCALENDAR
VERSION:2.0
PRODID:-//Octubre Centre de Cultura Contemporània - ECPv5.1.6//NONSGML v1.0//EN
CALSCALE:GREGORIAN
METHOD:PUBLISH
X-WR-CALNAME:Octubre Centre de Cultura Contemporània
X-ORIGINAL-URL:https://octubre.cat
X-WR-CALDESC:Events for Octubre Centre de Cultura Contemporània
BEGIN:VTIMEZONE
TZID:Europe/Andorra
BEGIN:DAYLIGHT
TZOFFSETFROM:+0100
TZOFFSETTO:+0200
TZNAME:CEST
DTSTART:20150329T010000
END:DAYLIGHT
BEGIN:STANDARD
TZOFFSETFROM:+0200
TZOFFSETTO:+0100
TZNAME:CET
DTSTART:20151025T010000
END:STANDARD
END:VTIMEZONE
BEGIN:VEVENT
DTSTART;TZID=Europe/Andorra:20151219T200000
DTEND;TZID=Europe/Andorra:20151219T200000
DTSTAMP:20260421T001517
CREATED:20200729T171424Z
LAST-MODIFIED:20200730T041605Z
UID:10394-1450555200-1450555200@octubre.cat
SUMMARY:Pepino Pascual presenta 'Souvenir Orquestra'
DESCRIPTION:Divendres 4 de desembre a les 20.00h. Actuació inclosa en el cicle de música Barcelona Escenari 2015. Preu 5 € / socis d’ACPV 3 €.  \n  \n  \n\n (música insòlita)  Souvenir Orquestra és un espectacle “solo” a càrrec de Pepino Pascual (col·laborador habitual de Pascal Comelade o La Troba King-Fu) amb l’ajut d’un munt d’instruments de diferents tipus i procedències\, així com de la col·laboració del públic. Les sonoritats de Souvenir Orquestra tenen la força de l’evocació: l’evocació d’un so ancestral (una banya\, l’aigua\, un tro\, una caragola…)\, d’un so de la terra (xirimites\, kalimbes\, panderos…) i d’una època (cançons i danses tradicionals\, hits d’estiu…). Un passeig per laberints de colors\, d’emocions\, de records i nous paisatges.  Les entrades es venen només a taquilla el mateix dia del concert. Tot i això es pot fer una reserva telefònica per les vesprades al 96 315 77 99. Preu 5 € / socis d’ACPV 3 €  — Barcelona Escenari 2015 és un cicle musical organitzat per l’Octubre CCC amb el patrocini de l’Institut de Cultura de Barcelona Programació artística: Francesc Burgos (lacasacalba.org) Col·labora: Espai Octubre Concerts
URL:https://octubre.cat/activitat/pepino-pascual-presenta-souvenir-orquestra/
CATEGORIES:Barcelona Escenari 2015 (música)
ATTACH;FMTTYPE=image/jpeg:https://octubre.cat/www/wp-content/uploads/2020/07/activitat2443.jpg
END:VEVENT
END:VCALENDAR