BEGIN:VCALENDAR
VERSION:2.0
PRODID:-//Octubre Centre de Cultura Contemporània - ECPv5.1.6//NONSGML v1.0//EN
CALSCALE:GREGORIAN
METHOD:PUBLISH
X-WR-CALNAME:Octubre Centre de Cultura Contemporània
X-ORIGINAL-URL:https://octubre.cat
X-WR-CALDESC:Events for Octubre Centre de Cultura Contemporània
BEGIN:VTIMEZONE
TZID:Europe/Andorra
BEGIN:DAYLIGHT
TZOFFSETFROM:+0100
TZOFFSETTO:+0200
TZNAME:CEST
DTSTART:20100328T010000
END:DAYLIGHT
BEGIN:STANDARD
TZOFFSETFROM:+0200
TZOFFSETTO:+0100
TZNAME:CET
DTSTART:20101031T010000
END:STANDARD
END:VTIMEZONE
BEGIN:VEVENT
DTSTART;TZID=Europe/Andorra:20100228T190000
DTEND;TZID=Europe/Andorra:20100228T190000
DTSTAMP:20260421T104620
CREATED:20200729T164734Z
LAST-MODIFIED:20200729T182808Z
UID:8733-1267383600-1267383600@octubre.cat
SUMMARY:Pepa Blasco
DESCRIPTION:Diumenge 28 de febrer\, a les 19.00h: Pepa Blasco (València).   \n  \n  \n\nLa cantant valenciana Pepa Blasco posseïx una grata veu\, potent i melòdica\, a més d’una gran simpatia dins i fora de l’escenari. Durant cinc anys va coordinar les jam sessions de la sala Black Note\, liderant la seua formació\, Pepa Blasco Jazz. A més\, ha sigut membre del quintet de vocalistes Dóna’m jazz\, amb Cristina Blasco\, Ester Andújar\, Arantxa Domínguez i Eva Dénia. Col·labora habitualment amb Tébar\, Pastor o Macián. Sweet Jazz és la formació que lidera amb Roberto Capella i José Luis Porras. El seu disc\, Casino nights\, fruit d’aquesta màgica conjunció\, recull el millor del seu repertori\, format per versions de clàssics del jazz i incursions en la música popular. Tot amb arranjaments acústics que van del swing al bolero amb unes gotes de bossa nova.   Formació:  Pepa Blasco\, veu / Roberto Capella\, piano / José Luis Porras\, contrabaix / Felipe Cucciardi\, bateria / Javier Feltrer\, saxo
URL:https://octubre.cat/activitat/pepa-blasco/
LOCATION:No definit
CATEGORIES:Diumenges de Jazz!
ATTACH;FMTTYPE=image/jpeg:https://octubre.cat/www/wp-content/uploads/2020/07/activitat1079.jpg
END:VEVENT
END:VCALENDAR