BEGIN:VCALENDAR
VERSION:2.0
PRODID:-//Octubre Centre de Cultura Contemporània - ECPv5.1.6//NONSGML v1.0//EN
CALSCALE:GREGORIAN
METHOD:PUBLISH
X-WR-CALNAME:Octubre Centre de Cultura Contemporània
X-ORIGINAL-URL:https://octubre.cat
X-WR-CALDESC:Events for Octubre Centre de Cultura Contemporània
BEGIN:VTIMEZONE
TZID:Europe/Andorra
BEGIN:DAYLIGHT
TZOFFSETFROM:+0100
TZOFFSETTO:+0200
TZNAME:CEST
DTSTART:20100328T010000
END:DAYLIGHT
BEGIN:STANDARD
TZOFFSETFROM:+0200
TZOFFSETTO:+0100
TZNAME:CET
DTSTART:20101031T010000
END:STANDARD
END:VTIMEZONE
BEGIN:VEVENT
DTSTART;TZID=Europe/Andorra:20100430T193000
DTEND;TZID=Europe/Andorra:20100430T193000
DTSTAMP:20260421T020101
CREATED:20200729T164843Z
LAST-MODIFIED:20200729T182910Z
UID:8803-1272655800-1272655800@octubre.cat
SUMMARY:Pen Català
DESCRIPTION:Divendres 30 d’abril\, a les 19.30h: Acte de presentació de la nova edició del programa “Escriptor refugiat” del PEN Català i taula rodona “Escriptor(e)s\, digitalització i mercat literari”.   \n  \n  \n\nActe de presentació de la nova edició del programa “Escriptor refugiat” del PEN Català\, amb la participació de la periodista tunisenca i defensora dels drets humans\, Sihem Bem Sedrine i l’escriptora Rhodah Mashavave (Zimbabwe).   A continuació\, tindrà lloc la taula rodona “Escriptor(e)s\, digitalització i mercat literari”\, amb les intervencions d’Antoni Furió (editor universitari)\, Dolors Lamarca (directora de la Biblioteca de Catalunya) i Mario Sepúlveda (advocat especialitzat en drets d’autor). Moderarà: Vicent Salvador\, vicepresident del Pen Català.
URL:https://octubre.cat/activitat/pen-catala/
LOCATION:No definit
CATEGORIES:Literatura
ATTACH;FMTTYPE=image/jpeg:https://octubre.cat/www/wp-content/uploads/2020/07/activitat1152.jpg
END:VEVENT
END:VCALENDAR