BEGIN:VCALENDAR
VERSION:2.0
PRODID:-//Octubre Centre de Cultura Contemporània - ECPv5.1.6//NONSGML v1.0//EN
CALSCALE:GREGORIAN
METHOD:PUBLISH
X-WR-CALNAME:Octubre Centre de Cultura Contemporània
X-ORIGINAL-URL:https://octubre.cat
X-WR-CALDESC:Events for Octubre Centre de Cultura Contemporània
BEGIN:VTIMEZONE
TZID:Europe/Andorra
BEGIN:DAYLIGHT
TZOFFSETFROM:+0100
TZOFFSETTO:+0200
TZNAME:CEST
DTSTART:20160327T010000
END:DAYLIGHT
BEGIN:STANDARD
TZOFFSETFROM:+0200
TZOFFSETTO:+0100
TZNAME:CET
DTSTART:20161030T010000
END:STANDARD
END:VTIMEZONE
BEGIN:VEVENT
DTSTART;TZID=Europe/Andorra:20161024T200000
DTEND;TZID=Europe/Andorra:20161024T200000
DTSTAMP:20260421T103009
CREATED:20200729T172038Z
LAST-MODIFIED:20200729T185606Z
UID:10794-1477339200-1477339200@octubre.cat
SUMMARY:Peim!
DESCRIPTION:Dilluns 24 d’octubre a les 20.00h. Kipple / Ton-Dose. Entrades de 3 a 5 euros.  \n  \n  \n\n Kipple / Ton-Dose Entrades de 3 a 5 euros.  Kipple és el nou projecte de Jorge Marredo (aka Satisfacción Lab)\, imprevisible\, insòlit i intens a parts iguals. Les seues propostes van des de fer discos a partir del hacking d’enregistraments de flamenc a realitzar temes emprant exclusivament el so d’orgasmes\, passant per fer concerts per a mirar els núvols o\, per què no?\, de sorprendre l’audiència amb mantres sonors deutors del millor minimalisme. Ha publicat a diversos segells internacionals de música experimental. La seua extensa proposta musical i sonora li permet participar a certàmens com Los Ciclos de Música Imprevista i Sound In de Madrid\, els festivals Pin Pan Pun i Off Hz de València o el Moradas d’Almeria. També ha actuant d’artista convidat amb els cinemàtics Umberto i Antoni Maiovvi o Kratrock.  Ton-Dose és un projecte de Martí Guillem amb el qual crea petits aparells sonors dins de llaunes de conserva. Els diferents objectes productors de so són manipulats en directe per a crear un esdeveniment audiovisual de caràcter marcadament poètic. Ton-Dose ha presentat el seu treball\, entre altres llocs\, a l’Ensems Festival de Música Contemporània de València\, al Moozak de Viena o el LoopSider de Berlín.
URL:https://octubre.cat/activitat/peim/
CATEGORIES:Música
ATTACH;FMTTYPE=image/jpeg:https://octubre.cat/www/wp-content/uploads/2020/07/activitat2650.jpg
END:VEVENT
END:VCALENDAR