BEGIN:VCALENDAR
VERSION:2.0
PRODID:-//Octubre Centre de Cultura Contemporània - ECPv5.1.6//NONSGML v1.0//EN
CALSCALE:GREGORIAN
METHOD:PUBLISH
X-WR-CALNAME:Octubre Centre de Cultura Contemporània
X-ORIGINAL-URL:https://octubre.cat
X-WR-CALDESC:Events for Octubre Centre de Cultura Contemporània
BEGIN:VTIMEZONE
TZID:Europe/Andorra
BEGIN:DAYLIGHT
TZOFFSETFROM:+0100
TZOFFSETTO:+0200
TZNAME:CEST
DTSTART:20180325T010000
END:DAYLIGHT
BEGIN:STANDARD
TZOFFSETFROM:+0200
TZOFFSETTO:+0100
TZNAME:CET
DTSTART:20181028T010000
END:STANDARD
END:VTIMEZONE
BEGIN:VEVENT
DTSTART;TZID=Europe/Andorra:20181127T000000
DTEND;TZID=Europe/Andorra:20181209T000000
DTSTAMP:20260422T012424
CREATED:20200729T173219Z
LAST-MODIFIED:20200905T143852Z
UID:11323-1543276800-1544313600@octubre.cat
SUMMARY:Pedrolo\, més enllà dels límits
DESCRIPTION:Inauguració: dimarts 27 de novembre a les 19.00h. \nConsulteu en aquest enllaç el programa de l’acte d’inauguració. \n“Pedrolo\, més enllà dels límits” és l’exposició itinerant en petit format de la mostra\, homònima i permanent\, situada a l’Espai Pedrolo\, al Castell de Concabella\, la Segarra. L’exposició presenta l’ampli univers pedrolià\, tant en la seua dimensió biogràfica com literària. S’explicita la relació de l’autor segarrenc amb el concepte de límit i\, per extensió\, amb el de llibertat. Pedrolo escriu en un afany enorme de capturar l’inefable\, d’esdevenir un “fenomenòleg”\, per tal de bastir el seu complex corpus literari\, multiforme en temes i estils\, però alhora global\, de gran coherència i sovint censurat. La negació de qualsevol cotilla el mena a traspassar els límits per fer-nos reflexionar i situar la literatura catalana a l’alçada de qualsevol gran literatura. Pedrolo fou un avançat al seu temps. \nAny Manuel de Pedrolo\nOrganització i producció: Institució de les Lletres Catalanes\nAmb el suport: Fundació Pedrolo – Espai Pedrolo i Departament de Cultura\nComissariat: Anna Moreno-Bedmar\nDisseny gràfic: Alba Cuñé Solé
URL:https://octubre.cat/activitat/pedrolo-mes-enlla-dels-limits/
LOCATION:Hall
CATEGORIES:Exposicions
ATTACH;FMTTYPE=image/jpeg:https://octubre.cat/www/wp-content/uploads/2020/07/activitat3161.jpg
END:VEVENT
END:VCALENDAR