BEGIN:VCALENDAR
VERSION:2.0
PRODID:-//Octubre Centre de Cultura Contemporània - ECPv5.1.6//NONSGML v1.0//EN
CALSCALE:GREGORIAN
METHOD:PUBLISH
X-WR-CALNAME:Octubre Centre de Cultura Contemporània
X-ORIGINAL-URL:https://octubre.cat
X-WR-CALDESC:Events for Octubre Centre de Cultura Contemporània
BEGIN:VTIMEZONE
TZID:Europe/Andorra
BEGIN:DAYLIGHT
TZOFFSETFROM:+0100
TZOFFSETTO:+0200
TZNAME:CEST
DTSTART:20100328T010000
END:DAYLIGHT
BEGIN:STANDARD
TZOFFSETFROM:+0200
TZOFFSETTO:+0100
TZNAME:CET
DTSTART:20101031T010000
END:STANDARD
END:VTIMEZONE
BEGIN:VEVENT
DTSTART;TZID=Europe/Andorra:20100423T230000
DTEND;TZID=Europe/Andorra:20100423T230000
DTSTAMP:20260420T175530
CREATED:20200729T164853Z
LAST-MODIFIED:20251228T165003Z
UID:8813-1272063600-1272063600@octubre.cat
SUMMARY:Paul Paulun + Heinrich Dubel
DESCRIPTION:Paul Paulun\nResident a Berlín\, Paul Paulun té des de fa molts anys el so com eina de treball\, tant en el vessant creatiu –gravacions de camp\, ràdio\, live soundtracks– com en el que té a veure amb la investigació  –per exemple la crítica musical o els usos militars/subliminals/supraliminals del so. En aquest vessant\, de l’ús del so com a possible “arma no letal mental”\, com a manipulació psíquica\, se centrarà la seua interessant ponència\, “Operation Ear”. El canal auditiu com a mitjà de control mental\, amb exemples coneguts i d’altres no tant. Aquests últims constitueixen l’aportació d’un veritable Sound Master a Spectra. \nHeinrich Dubel\nHeinrich Dubel és un altre veterà de Berlín. Creador de l’Erratik Institut\, autèntic contenidor d’idees brillants i perverses\, responsable del bar-galeria Sniper i compilador d’arxius psicotrònics sobre cultura popular i subpopular. En la seua visita a València aprofitarà per a presentar-nos “Angstpop”\, una barreja de teoria de la conspiració i narració de por\, una sessió de ConspiRàdio en col·laboració amb Paul Paulun\, una combinació ideal. \nDos veritables ràdio-militants que han treballat junts en un munt de projectes radiofònics\, sota els noms de guerra hertzians Paulator i DJ Officer Officer. Amb aquesta ràdio-cloenda\, Spectra tindrà\, com en edicions precedents amb “pop eye spy” (2008) i Ken Hollings (2009)\, una notable quota de ràdio-activitat conspiranòfila.   Aquesta sessió s’inscriu en el marc de Spetra/3\, tercer simposi mundial de teorie(s) de la conspiració.
URL:https://octubre.cat/activitat/paul-paulun-heinrich-dubel/
LOCATION:No definit
CATEGORIES:Spectra,Vibra
ATTACH;FMTTYPE=image/jpeg:https://octubre.cat/www/wp-content/uploads/2020/07/activitat1162.jpg
END:VEVENT
END:VCALENDAR