BEGIN:VCALENDAR
VERSION:2.0
PRODID:-//Octubre Centre de Cultura Contemporània - ECPv5.1.6//NONSGML v1.0//EN
CALSCALE:GREGORIAN
METHOD:PUBLISH
X-WR-CALNAME:Octubre Centre de Cultura Contemporània
X-ORIGINAL-URL:https://octubre.cat
X-WR-CALDESC:Events for Octubre Centre de Cultura Contemporània
BEGIN:VTIMEZONE
TZID:Europe/Andorra
BEGIN:DAYLIGHT
TZOFFSETFROM:+0100
TZOFFSETTO:+0200
TZNAME:CEST
DTSTART:20120325T010000
END:DAYLIGHT
BEGIN:STANDARD
TZOFFSETFROM:+0200
TZOFFSETTO:+0100
TZNAME:CET
DTSTART:20121028T010000
END:STANDARD
END:VTIMEZONE
BEGIN:VEVENT
DTSTART;TZID=Europe/Andorra:20121123T200000
DTEND;TZID=Europe/Andorra:20121123T200000
DTSTAMP:20260421T002053
CREATED:20200729T165834Z
LAST-MODIFIED:20200830T155347Z
UID:9418-1353700800-1353700800@octubre.cat
SUMMARY:Pau Riba
DESCRIPTION:Divendres 23 de novembre a les 20.00h: Pau Riba presenta “40 gripaus” (cicle musical “Barcelona escenari”)  \n  \n  \n\n(foto: Rafel Serres)  Presenta l’espectacle “40 gripaus” (per primera vegada al País Valencià)  Estrena al País Valencià de l’espectacle “40 gripaus” on Pau Riba\, acompanyat d’una banda de músics bojos\, actualitza el repertori que 40 anys enrere va incloure en el mític àlbum “Jo\, la donya i el gripau”\, en un emotiu recital en el que el joc\, l’alegria i la instrumentació insospitada són els principals protagonistes.  Preu: 10 euros (socis 8 euros)  Organitza: Octubre Centre de Cultura Contemporània de València Programació artística: Francesc Burgos (lacasacalba.org) Col·labora: Institut de Cultura de Barcelona
URL:https://octubre.cat/activitat/pau-riba/
LOCATION:Hall
CATEGORIES:Barcelona Escenari 2012 (música),Música
ATTACH;FMTTYPE=image/jpeg:https://octubre.cat/www/wp-content/uploads/2020/07/activitat1667.jpg
END:VEVENT
END:VCALENDAR