BEGIN:VCALENDAR
VERSION:2.0
PRODID:-//Octubre Centre de Cultura Contemporània - ECPv5.1.6//NONSGML v1.0//EN
CALSCALE:GREGORIAN
METHOD:PUBLISH
X-WR-CALNAME:Octubre Centre de Cultura Contemporània
X-ORIGINAL-URL:https://octubre.cat
X-WR-CALDESC:Events for Octubre Centre de Cultura Contemporània
BEGIN:VTIMEZONE
TZID:Europe/Andorra
BEGIN:DAYLIGHT
TZOFFSETFROM:+0100
TZOFFSETTO:+0200
TZNAME:CEST
DTSTART:20230326T010000
END:DAYLIGHT
BEGIN:STANDARD
TZOFFSETFROM:+0200
TZOFFSETTO:+0100
TZNAME:CET
DTSTART:20231029T010000
END:STANDARD
END:VTIMEZONE
BEGIN:VEVENT
DTSTART;TZID=Europe/Andorra:20230120T193000
DTEND;TZID=Europe/Andorra:20230120T193000
DTSTAMP:20260420T202120
CREATED:20221220T191103Z
LAST-MODIFIED:20250710T081020Z
UID:19214-1674243000-1674243000@octubre.cat
SUMMARY:Patraix Clarinet Quartet presenta Mestissatge
DESCRIPTION:El Patraix Clarinet Quartet és una agrupació de nova creació nascuda al barri homònim de la ciutat de Valencia. Està integrat per Lucía Alcañiz (València\, 1992)\, Lucía de la Puente (Getafe\, 1992)\, Juanjo López (Vilagarcía de Arousa\, 1995) i Adrián Ombuena (València\, 1988).\nFormats als conservatoris superiors de València\, Castelló\, Vigo i Anvers\, en acabar els seus estudis cadascú emprengué un camí professional diferent: la interpretació o la docència. Després d’haver format part d’altres agrupacions\, aquests instrumentistes han decidit engegar aquest nou projecte amb tot el seu bagatge musical i amb la voluntat de divulgar la cultura musical al públic en general mitjançant concerts didàctics i divertits. \n  \n \n  \nMestissatge és un recorregut sonor pel continent americà\, de nord a sud\, un concert que hibrida\, de manera amena\, música culta i música popular\, autòctona i forana. És un diàleg amb l’oient perquè entenga allò que escolta. Es podria dir també que és “underground”\, com “de cara B”: pareix “música clàssica” però el públic pot acabar ballant… \n—\nFacebook\nInstagram\nYoutube
URL:https://octubre.cat/activitat/patraix-clarinet-quartet-presenta-mestissatge/
LOCATION:Sala d’actes
CATEGORIES:Música
ATTACH;FMTTYPE=image/jpeg:https://octubre.cat/www/wp-content/uploads/2022/12/patraix-clarinet-1.jpg
END:VEVENT
END:VCALENDAR