BEGIN:VCALENDAR
VERSION:2.0
PRODID:-//Octubre Centre de Cultura Contemporània - ECPv5.1.6//NONSGML v1.0//EN
CALSCALE:GREGORIAN
METHOD:PUBLISH
X-WR-CALNAME:Octubre Centre de Cultura Contemporània
X-ORIGINAL-URL:https://octubre.cat
X-WR-CALDESC:Events for Octubre Centre de Cultura Contemporània
BEGIN:VTIMEZONE
TZID:Europe/Andorra
BEGIN:DAYLIGHT
TZOFFSETFROM:+0100
TZOFFSETTO:+0200
TZNAME:CEST
DTSTART:20180325T010000
END:DAYLIGHT
BEGIN:STANDARD
TZOFFSETFROM:+0200
TZOFFSETTO:+0100
TZNAME:CET
DTSTART:20181028T010000
END:STANDARD
END:VTIMEZONE
BEGIN:VEVENT
DTSTART;TZID=Europe/Andorra:20181019T000000
DTEND;TZID=Europe/Andorra:20181028T000000
DTSTAMP:20260423T135008
CREATED:20200729T173155Z
LAST-MODIFIED:20200729T190949Z
UID:11299-1539907200-1540684800@octubre.cat
SUMMARY:Pati interior V
DESCRIPTION:Instal·lació a la façana posterior de l’Octubre CCC\, del 19 al 28 d’octubre. Equip artístic: Mavi Escamilla\, Pol Coronado\, Jorge Carla. Comissariat: Insulina Pelayos. Festival Intramurs 2018. 	 \n  \n  \n\n 	 Intramurs # Atopic 2018 en col·laboració amb l’Octubre Centre de Cultura Contemporània  Pati interior V Una reflexió sobre la intimitat compartida com una cosa inevitable  Comissariat per Insulina Pelayos Equip artístic: Mavi Escamilla\, Pol Coronado\, Jorge Carla  Intervenció urbana al carrer dels Manyans\, 14 (façana posterior de l’Octubre CCC).
URL:https://octubre.cat/activitat/pati-interior-v/
CATEGORIES:Instal·lacions
ATTACH;FMTTYPE=image/jpeg:https://octubre.cat/www/wp-content/uploads/2020/07/activitat3138.jpg
END:VEVENT
END:VCALENDAR