BEGIN:VCALENDAR
VERSION:2.0
PRODID:-//Octubre Centre de Cultura Contemporània - ECPv5.1.6//NONSGML v1.0//EN
CALSCALE:GREGORIAN
METHOD:PUBLISH
X-WR-CALNAME:Octubre Centre de Cultura Contemporània
X-ORIGINAL-URL:https://octubre.cat
X-WR-CALDESC:Events for Octubre Centre de Cultura Contemporània
BEGIN:VTIMEZONE
TZID:Europe/Andorra
BEGIN:DAYLIGHT
TZOFFSETFROM:+0100
TZOFFSETTO:+0200
TZNAME:CEST
DTSTART:20170326T010000
END:DAYLIGHT
BEGIN:STANDARD
TZOFFSETFROM:+0200
TZOFFSETTO:+0100
TZNAME:CET
DTSTART:20171029T010000
END:STANDARD
END:VTIMEZONE
BEGIN:VEVENT
DTSTART;TZID=Europe/Andorra:20171019T000000
DTEND;TZID=Europe/Andorra:20171029T000000
DTSTAMP:20260420T115245
CREATED:20200729T190151Z
LAST-MODIFIED:20200729T190151Z
UID:13258-1508371200-1509235200@octubre.cat
SUMMARY:Pati interior IV
DESCRIPTION:Instal·lació a la façana posterior de l’Octubre CCC (carrer dels Manyans). Festival Intramurs\, del 19 al 29 d’octubre.  \n  \n  \n\n Instal·lació dels artistes Jorge Carla Bajo\, Pol Coronado i Mavi Escamilla. Comissariat: Insulina Pelayos.   Aquesta instal·lació forma part d’Intramurs. Festival per l’art a València\, del 19 al 29 d’octubre a diversos espais de la ciutat.
URL:https://octubre.cat/activitat/pati-interior-iv/
LOCATION:No definit
CATEGORIES:Instal·lacions
ATTACH;FMTTYPE=image/jpeg:https://octubre.cat/www/wp-content/uploads/2020/07/activitat2898.jpg
END:VEVENT
END:VCALENDAR