BEGIN:VCALENDAR
VERSION:2.0
PRODID:-//Octubre Centre de Cultura Contemporània - ECPv5.1.6//NONSGML v1.0//EN
CALSCALE:GREGORIAN
METHOD:PUBLISH
X-WR-CALNAME:Octubre Centre de Cultura Contemporània
X-ORIGINAL-URL:https://octubre.cat
X-WR-CALDESC:Events for Octubre Centre de Cultura Contemporània
BEGIN:VTIMEZONE
TZID:Europe/Andorra
BEGIN:DAYLIGHT
TZOFFSETFROM:+0100
TZOFFSETTO:+0200
TZNAME:CEST
DTSTART:20130331T010000
END:DAYLIGHT
BEGIN:STANDARD
TZOFFSETFROM:+0200
TZOFFSETTO:+0100
TZNAME:CET
DTSTART:20131027T010000
END:STANDARD
END:VTIMEZONE
BEGIN:VEVENT
DTSTART;TZID=Europe/Andorra:20131129T213000
DTEND;TZID=Europe/Andorra:20131129T213000
DTSTAMP:20260421T212538
CREATED:20200729T170238Z
LAST-MODIFIED:20200729T184253Z
UID:9649-1385760600-1385760600@octubre.cat
SUMMARY:Parmesans en concert
DESCRIPTION:Divendres 29 de novembre a les 21.30h. Dins dels actes d’inauguració de l’exposició ‘Icones del Destí’\, de Judas Arrieta i Luís Baylón. Entrada lliure  \n  \n  \n\n El grup Parmesans\, alter ego del grup Dwomo\, presenta un recital lligat íntimament amb el folk musical xinès i la seua cultura. La seua música combina cacofonies\, cançó tribal ancestral\, folklore mongol\, jighu\, quyi\, chuigushou\, baisha xiyue i altres estils xinesos amb altres tendències i ritmes occidental\, des de la base rítmica de baix i bateria\, amb referències  a la bossa\, jungle\, breakbeat\, drum & bass\, rhythm & blues\, rock\, o dub. Un format senzill i efectiu en el qual la Xina i Occident es donen la mà per a fer del directe de Parmesans un aparador d’apropament i noves fórmules. Un concert original que fa una proposta enèrgica\, rica\, hipnòtica i accessible per a tots els públics.  Durada del concert: 30 minuts Entrada lliure  Aquest concert s’inscriu en el marc de les activitats paral·leles a l’exposició Icones del Destí\, de Judas Arrieta i Luís Baylón\, i dins de la celebració del 6é aniversari de l’Institut Confuci de la Universitat de València.
URL:https://octubre.cat/activitat/parmesans-en-concert/
LOCATION:Sala d’actes
CATEGORIES:Música
ATTACH;FMTTYPE=image/jpeg:https://octubre.cat/www/wp-content/uploads/2020/07/activitat1938.jpg
END:VEVENT
END:VCALENDAR