BEGIN:VCALENDAR
VERSION:2.0
PRODID:-//Octubre Centre de Cultura Contemporània - ECPv5.1.6//NONSGML v1.0//EN
CALSCALE:GREGORIAN
METHOD:PUBLISH
X-WR-CALNAME:Octubre Centre de Cultura Contemporània
X-ORIGINAL-URL:https://octubre.cat
X-WR-CALDESC:Events for Octubre Centre de Cultura Contemporània
BEGIN:VTIMEZONE
TZID:Europe/Andorra
BEGIN:DAYLIGHT
TZOFFSETFROM:+0100
TZOFFSETTO:+0200
TZNAME:CEST
DTSTART:20140330T010000
END:DAYLIGHT
BEGIN:STANDARD
TZOFFSETFROM:+0200
TZOFFSETTO:+0100
TZNAME:CET
DTSTART:20141026T010000
END:STANDARD
END:VTIMEZONE
BEGIN:VEVENT
DTSTART;TZID=Europe/Andorra:20140430T193000
DTEND;TZID=Europe/Andorra:20140430T193000
DTSTAMP:20260421T043518
CREATED:20200729T170435Z
LAST-MODIFIED:20200730T041122Z
UID:9763-1398886200-1398886200@octubre.cat
SUMMARY:Parlem d'Europa: #Economiaverda
DESCRIPTION:Dimecres 30 d’abril a les 19.30h. Tertúlia amb Jordi Sebastià i Florent Marcellesi (Primavera Europea – Coalició Compromís)  \n  \n  \n\n Tertúlia amb Jordi Sebastià i Florent Marcellesi\, caps de llista de Primavera Europea: Coalició Compromís.  #ECONOMIAVERDA Apostem per la transició ecològica de l’economia (New Deal Verd) cap a un altre model productiu i de consum basat en l’economia social\, sostenible i del bé comú\, és a dir una prosperitat compartida. Finançarem la creació d’ocupacions verdes i decents\, a més de R+D+i\, amb una reforma fiscal que taxe primer de tot els recursos i els capitals.   Organitzat per la Coalició Compromís  Més info: Esdeveniment FB Primavera Europea Primavera Europea en facebook @EuroPrimavera
URL:https://octubre.cat/activitat/parlem-deuropa-economiaverda/
CATEGORIES:Conferències i congressos
ATTACH;FMTTYPE=image/jpeg:https://octubre.cat/www/wp-content/uploads/2020/07/activitat2060.jpg
END:VEVENT
END:VCALENDAR