BEGIN:VCALENDAR
VERSION:2.0
PRODID:-//Octubre Centre de Cultura Contemporània - ECPv5.1.6//NONSGML v1.0//EN
CALSCALE:GREGORIAN
METHOD:PUBLISH
X-WR-CALNAME:Octubre Centre de Cultura Contemporània
X-ORIGINAL-URL:https://octubre.cat
X-WR-CALDESC:Events for Octubre Centre de Cultura Contemporània
BEGIN:VTIMEZONE
TZID:Europe/Andorra
BEGIN:DAYLIGHT
TZOFFSETFROM:+0100
TZOFFSETTO:+0200
TZNAME:CEST
DTSTART:20210328T010000
END:DAYLIGHT
BEGIN:STANDARD
TZOFFSETFROM:+0200
TZOFFSETTO:+0100
TZNAME:CET
DTSTART:20211031T010000
END:STANDARD
END:VTIMEZONE
BEGIN:VEVENT
DTSTART;TZID=Europe/Andorra:20211118T200000
DTEND;TZID=Europe/Andorra:20211118T200000
DTSTAMP:20260420T131452
CREATED:20211014T103203Z
LAST-MODIFIED:20211014T105516Z
UID:17091-1637265600-1637265600@octubre.cat
SUMMARY:“Paraules de dona”: Aitana Ferrer i Ina Martí
DESCRIPTION:Les cantants Aitana Ferrer i Ina Martí rescaten “les oblidades”\, poetesses que pràcticament han passat desapercebudes i donen vida als seus poemes\, a través de la música. \n\nAitana Ferrer \n“Paraules de dona” és un espectacle que vol homenatjar i donar visibilitat a la poesia escrita per dones de diferents llocs i èpoques. L’amor\, la vida\, la societat\, la política\, la mort\, la por… contades des de la feminitat tan sovint feta silenci. \n\nIna Martí \nEls poemes de Rosa Leveroni\, Clementina Arderiu\, Alfonsina Storni\, Maria Josep Escrivà\, Isabel Garcia i Canet\, Eladia Blazquez\, Maria Beneyto\, Mireia Calafell\, Maria Ibars\, entre d’altres\, prendran vida en les veus de les cantants Ina Martí i Aitana Ferrer\, acompanyades pel violoncel de Clara Dols i el piano d´Enric Murillo\, compositor i director de l’espectacle. \n—\n“Paraules de dona” és un espectacle organitzat per la Plataforma per la Llengua amb la col·laboració de l’Octubre CCC\, amb motiu del 20 de novembre\, Dia del Llibre Valencià.\n(foto de capçalera: Enric Marco)
URL:https://octubre.cat/activitat/paraules-de-dona-aitana-ferrer-i-ina-marti/
LOCATION:Sala d’actes
CATEGORIES:Literatura,Música
ATTACH;FMTTYPE=image/jpeg:https://octubre.cat/www/wp-content/uploads/2021/10/paraules-de-dona.jpg
END:VEVENT
END:VCALENDAR