BEGIN:VCALENDAR
VERSION:2.0
PRODID:-//Octubre Centre de Cultura Contemporània - ECPv5.1.6//NONSGML v1.0//EN
CALSCALE:GREGORIAN
METHOD:PUBLISH
X-WR-CALNAME:Octubre Centre de Cultura Contemporània
X-ORIGINAL-URL:https://octubre.cat
X-WR-CALDESC:Events for Octubre Centre de Cultura Contemporània
BEGIN:VTIMEZONE
TZID:Europe/Andorra
BEGIN:DAYLIGHT
TZOFFSETFROM:+0100
TZOFFSETTO:+0200
TZNAME:CEST
DTSTART:20090329T010000
END:DAYLIGHT
BEGIN:STANDARD
TZOFFSETFROM:+0200
TZOFFSETTO:+0100
TZNAME:CET
DTSTART:20091025T010000
END:STANDARD
END:VTIMEZONE
BEGIN:VEVENT
DTSTART;TZID=Europe/Andorra:20091103T193000
DTEND;TZID=Europe/Andorra:20091103T193000
DTSTAMP:20260421T000716
CREATED:20200729T182634Z
LAST-MODIFIED:20200729T182634Z
UID:12941-1257276600-1257276600@octubre.cat
SUMMARY:Paraula de poeta
DESCRIPTION:Espai Illes Balears. Dimarts 3 de novembre a les  19.30h. Presentació de la col·lecció “Paraula de poeta” amb textos de Damià Pons i Josep Lluís Aguiló  \n  \n  \n\nL’escriptor Damià Pons.   Presentació dels darrers números de la col·lecció “Paraula de poeta”  La presentació comptarà amb la presència del director general\, Pere Joan Martorell\, i dos autors seleccionats: Damià Pons i Josep Lluís Aguiló\, responsables dels últims opuscles que han aparegut dins de la col·lecció “Paraula de Poeta”.   Aquesta activitat té com a principal objectiu donar difusió als poetes de les Illes. Pons\, en els seus Poemes essencials\, inclou composicions procedents de poemaris com Teranyina\, Exercicis per a la desintegració\, Mapa del desig\, Territori d’incògnites i Els rastres del mamífer\, tots ells\, a excepció d’aquest últim que és més actual\, dels anys 70.   Per la seua banda\, Aguiló\, premi Jocs Florals de Barcelona\, publica sota el títol d’Històries un seguit de composicions per a donar-nos felicitat\, que és\, en la seua opinió\, la raó bàsica de la literatura\, amb poemes extrets de llibres tan celebrats com Monstres o Llunari.
URL:https://octubre.cat/activitat/paraula-de-poeta/
LOCATION:No definit
CATEGORIES:Espai Illes Balears
ATTACH;FMTTYPE=image/jpeg:https://octubre.cat/www/wp-content/uploads/2020/07/activitat975.jpg
END:VEVENT
END:VCALENDAR