BEGIN:VCALENDAR
VERSION:2.0
PRODID:-//Octubre Centre de Cultura Contemporània - ECPv5.1.6//NONSGML v1.0//EN
CALSCALE:GREGORIAN
METHOD:PUBLISH
X-WR-CALNAME:Octubre Centre de Cultura Contemporània
X-ORIGINAL-URL:https://octubre.cat
X-WR-CALDESC:Events for Octubre Centre de Cultura Contemporània
BEGIN:VTIMEZONE
TZID:Europe/Andorra
BEGIN:DAYLIGHT
TZOFFSETFROM:+0100
TZOFFSETTO:+0200
TZNAME:CEST
DTSTART:20190331T010000
END:DAYLIGHT
BEGIN:STANDARD
TZOFFSETFROM:+0200
TZOFFSETTO:+0100
TZNAME:CET
DTSTART:20191027T010000
END:STANDARD
END:VTIMEZONE
BEGIN:VEVENT
DTSTART;TZID=Europe/Andorra:20190510T193000
DTEND;TZID=Europe/Andorra:20190510T193000
DTSTAMP:20260425T175410
CREATED:20200729T173402Z
LAST-MODIFIED:20200729T191135Z
UID:11432-1557516600-1557516600@octubre.cat
SUMMARY:Paraula de poeta. Cultura per la llibertat
DESCRIPTION:Divendres 10 de maig a les 19.30h. Acte per la llibertat dels líders socials i institucionals en presó o exili. Amb la participació de Joan Lluís Bozzo\, Manuel Molins\, Enric Majó\, Carme Samsa\, Pepa Arenós\, Vicent Torrent\, Pau Alabajos\, Bertomeu\, Tesa i molts més. Entrada lliure.	 \n  \n  \n\n 	 Per la llibertat dels líders socials i institucionals en presó o exili.  Coordinat per per Enric Majó i Manuel Molins amb la col·laboració de Joan Lluís Bozzo.  Amb les interpretacions d’Enric Majó\, Carme Samsa i Pepa Arenós.  Música de Bertomeu\, Pau Alabajos\, Vicent Torrent i Tesa.  Amb 10 poetes del País Valencià\, 5 de Catalunya i 5 de les Illes Balears.  — Organitzat per Acció Cultural del País Valencià (ACPV)
URL:https://octubre.cat/activitat/paraula-de-poeta-cultura-per-la-llibertat/
LOCATION:Hall
CATEGORIES:Literatura
ATTACH;FMTTYPE=image/jpeg:https://octubre.cat/www/wp-content/uploads/2020/07/activitat3276.jpg
END:VEVENT
END:VCALENDAR