BEGIN:VCALENDAR
VERSION:2.0
PRODID:-//Octubre Centre de Cultura Contemporània - ECPv5.1.6//NONSGML v1.0//EN
CALSCALE:GREGORIAN
METHOD:PUBLISH
X-WR-CALNAME:Octubre Centre de Cultura Contemporània
X-ORIGINAL-URL:https://octubre.cat
X-WR-CALDESC:Events for Octubre Centre de Cultura Contemporània
BEGIN:VTIMEZONE
TZID:Europe/Andorra
BEGIN:DAYLIGHT
TZOFFSETFROM:+0100
TZOFFSETTO:+0200
TZNAME:CEST
DTSTART:20080330T010000
END:DAYLIGHT
BEGIN:STANDARD
TZOFFSETFROM:+0200
TZOFFSETTO:+0100
TZNAME:CET
DTSTART:20081026T010000
END:STANDARD
END:VTIMEZONE
BEGIN:VEVENT
DTSTART;TZID=Europe/Andorra:20081106T200000
DTEND;TZID=Europe/Andorra:20081106T200000
DTSTAMP:20260420T203839
CREATED:20200729T182014Z
LAST-MODIFIED:20200730T035831Z
UID:12654-1226001600-1226001600@octubre.cat
SUMMARY:Palmero & Bustamante
DESCRIPTION:Dijous 6 de novembre\, a les 20.00h: Palmero & Bustamante  \n  \n  \n\nPalmero i Bustamante es retrobem de nou a València\, la ciutat magnètica\, en un recital especial a veu i guitarra\, on els pioners del rock mediterrani\, presentaran els seus flamants nous àlbums\, “Sense Comentaris” i “Luvia Cascabel”\, respectivament. I esperem que també alguna que altra cançó compartida dels temps d’Altea. Ara bé\, que ningú es pense que es tracta d’una reunió d’excombatients: aquestos dos autors encara tenen les armes ben carregades de cançons entusiastes que poden enganxar fins al més incrédul. I és que no han perdut la màgia de reflexar en cançons el nostre sentir col·lectiu.
URL:https://octubre.cat/activitat/palmero-bustamante/
LOCATION:No definit
CATEGORIES:Cicle de música pop
ATTACH;FMTTYPE=image/jpeg:https://octubre.cat/www/wp-content/uploads/2020/07/activitat669.jpg
END:VEVENT
END:VCALENDAR