BEGIN:VCALENDAR
VERSION:2.0
PRODID:-//Octubre Centre de Cultura Contemporània - ECPv5.1.6//NONSGML v1.0//EN
CALSCALE:GREGORIAN
METHOD:PUBLISH
X-WR-CALNAME:Octubre Centre de Cultura Contemporània
X-ORIGINAL-URL:https://octubre.cat
X-WR-CALDESC:Events for Octubre Centre de Cultura Contemporània
BEGIN:VTIMEZONE
TZID:Europe/Andorra
BEGIN:DAYLIGHT
TZOFFSETFROM:+0100
TZOFFSETTO:+0200
TZNAME:CEST
DTSTART:20260329T010000
END:DAYLIGHT
BEGIN:STANDARD
TZOFFSETFROM:+0200
TZOFFSETTO:+0100
TZNAME:CET
DTSTART:20261025T010000
END:STANDARD
END:VTIMEZONE
BEGIN:VEVENT
DTSTART;TZID=Europe/Andorra:20260224T190000
DTEND;TZID=Europe/Andorra:20260224T190000
DTSTAMP:20260420T114931
CREATED:20260115T162153Z
LAST-MODIFIED:20260115T162153Z
UID:24770-1771959600-1771959600@octubre.cat
SUMMARY:Palmarès Dona i Cinema: Postmarks\, de Natalia Nazarova
DESCRIPTION:Projecció del Millor Llargmetratge de Ficció:\n—Postmarks\, de Natalia Nazarova\nRússia\, 119’ \nYana treballa a l’oficina de correus\, recull segells i espera al seu pare enfront de la mar\, encara que no confia que torne. Yana és una persona molt forta\, els efectes de la seua paràlisi cerebral són gairebé invisibles i la seua lleugera coixesa i una mica de raresa només li donen un encant addicional. Un dia\, el mariner Petr arriba a l’oficina de correus i la vida de Yana canvia. \n  \n \n—\nOrganitzat per la Biennal Internacional Dona i Cinema amb la col·laboració de l’Octubre CCC.
URL:https://octubre.cat/activitat/palmares-dona-i-cinema-postmarks-de-natalia-nazarova/
LOCATION:Sala d’actes
CATEGORIES:Palmarès Dona i Cinema
ATTACH;FMTTYPE=image/jpeg:https://octubre.cat/www/wp-content/uploads/2025/12/dona-i-cinema-2025-capcalera.jpg
END:VEVENT
END:VCALENDAR