BEGIN:VCALENDAR
VERSION:2.0
PRODID:-//Octubre Centre de Cultura Contemporània - ECPv5.1.6//NONSGML v1.0//EN
CALSCALE:GREGORIAN
METHOD:PUBLISH
X-WR-CALNAME:Octubre Centre de Cultura Contemporània
X-ORIGINAL-URL:https://octubre.cat
X-WR-CALDESC:Events for Octubre Centre de Cultura Contemporània
BEGIN:VTIMEZONE
TZID:Europe/Andorra
BEGIN:DAYLIGHT
TZOFFSETFROM:+0100
TZOFFSETTO:+0200
TZNAME:CEST
DTSTART:20260329T010000
END:DAYLIGHT
BEGIN:STANDARD
TZOFFSETFROM:+0200
TZOFFSETTO:+0100
TZNAME:CET
DTSTART:20261025T010000
END:STANDARD
END:VTIMEZONE
BEGIN:VEVENT
DTSTART;TZID=Europe/Andorra:20260210T190000
DTEND;TZID=Europe/Andorra:20260210T190000
DTSTAMP:20260420T125123
CREATED:20260115T161526Z
LAST-MODIFIED:20260115T161526Z
UID:24767-1770750000-1770750000@octubre.cat
SUMMARY:Palmarès Dona i Cinema: Hard to break\, d’Anna-Maija Heinonen i Krista Moisio
DESCRIPTION:Projecció del Millor Llargmetratge Documental:\n—Hard to break\, d’Anna-Maija Heinonen i Krista Moisio\nFinlàndia\, 81’ \nHard to break és una enèrgica però íntima història de majoria d’edat sobre dos joves finlandesos que estan embolicats en problemes greus mentre busquen l’aprovació dels seus seguidors i companys en línia. Contada a través dels seus ulls\, la pel·lícula és tan ràpida com el seu estat de relació sempre canviant\, els seus pentinats i les xarxes socials que consumeixen. Enmig de les lluites amb l’addicció\, la violència i l’anhel d’amor\, descobreixen una força inimaginable per a perseverar. \n  \n \n—\nOrganitzat per la Biennal Internacional Dona i Cinema amb la col·laboració de l’Octubre CCC.
URL:https://octubre.cat/activitat/palmares-dona-i-cinema-hard-to-break-danna-maija-heinonen-i-krista-moisio/
LOCATION:Sala d’actes
CATEGORIES:Palmarès Dona i Cinema
ATTACH;FMTTYPE=image/jpeg:https://octubre.cat/www/wp-content/uploads/2025/12/dona-i-cinema-2025-capcalera.jpg
END:VEVENT
END:VCALENDAR